BEGIN:VCALENDAR
PRODID:NingEventWidget-v1
VERSION:2.0
METHOD:PUBLISH
BEGIN:VTIMEZONE
TZID:America/Los_Angeles
X-LIC-LOCATION:America/Los_Angeles
BEGIN:DAYLIGHT
TZOFFSETFROM:-0800
TZOFFSETTO:-0700
TZNAME:PDT
DTSTART:19700308T020000
RRULE:FREQ=YEARLY;BYMONTH=3;BYDAY=2SU
END:DAYLIGHT
BEGIN:STANDARD
TZOFFSETFROM:-0700
TZOFFSETTO:-0800
TZNAME:PST
DTSTART:19701101T020000
RRULE:FREQ=YEARLY;BYMONTH=11;BYDAY=1SU
END:STANDARD
END:VTIMEZONE
BEGIN:VEVENT
UID:1464587:Event:59763
DTSTAMP:20260421T064833Z
SUMMARY:Big People Ting - Ras Souljah Birthnite Bash - Fri. June 25th
DESCRIPTION:Ok are you Ready!!!\nWe are back, its Big People Ting _ Fr
 iday June 25th\nKaribbean City 1408 Webster st Oakland (downtown)\n\nA
  nite called \"Weh Mi Get Mi Clarks\"\nThe Official Ras Souljah Birthn
 ite Bash, Featuring Djs:\n\nDans-One (Broken Silence Sound)\nI-Vier (J
 ah Warrior Shelter hifi)\nSenseless (Awticalz International Sound)\n\n
 w/ Live Performance by Ras Souljah with Special\nSurprise Musical Cele
 brity Appearances!!!!\n\nThe best pair of Clarks in the house will win
  a free pair of your choice for up to a $100 from Bill's Men's Shoes\n
 (the Clarks store) in berkeley, other lucky winners will receive coupo
 ns for 15% off.\n\nSelecta Bumshel will be jugglin early warm up style
  and more guests djs will be coming through, lets come out and enjoy o
 urselves and leave the drama at home this will be one of the last few 
 performances before he prepares for his album debut rsvp soon guestlis
 t for this event is very,very very limited\nthe 1NESS Family and Mobay
  Antawrage will be in the venue see you there.\n\nThank You,\nBig Peop
 le Productions\n\nhttp://www.facebook.com/#!/event.php?eid=13164527351
 5374&ref=mf\n\nFor more information visit https://trueskool.com/events
 /big-people-ting-ras-souljah
DTSTART;TZID=America/Los_Angeles:20100625T210000
DTEND;TZID=America/Los_Angeles:20100626T020000
CATEGORIES:dancehall, lovers, rock, reggae
LOCATION:NKC, oakland
WEBSITE:http://www.facebook.com/#!/event.php?eid=131645273515374&ref=m
 f
URL:http://www.facebook.com/#!/event.php?eid=131645273515374&ref=mf
CONTACT:
ORGANIZER;CN="Jennifer Freesia":https://trueskool.com/profile/Jennifer
 Freesia
ATTACH;FMTTYPE="image/jpeg":http://storage.ning.com/topology/rest/1.0/
 file/get/2247881282?profile=original
ATTENDEE;ROLE=REQ-PARTICIPANT;PARTSTAT=ACCEPTED;RSVP=TRUE;CN="Jennifer
  Freesia":https://trueskool.com/profile/JenniferFreesia
END:VEVENT
END:VCALENDAR
