BEGIN:VCALENDAR
PRODID:NingEventWidget-v1
VERSION:2.0
METHOD:PUBLISH
BEGIN:VTIMEZONE
TZID:America/Los_Angeles
X-LIC-LOCATION:America/Los_Angeles
BEGIN:DAYLIGHT
TZOFFSETFROM:-0800
TZOFFSETTO:-0700
TZNAME:PDT
DTSTART:19700308T020000
RRULE:FREQ=YEARLY;BYMONTH=3;BYDAY=2SU
END:DAYLIGHT
BEGIN:STANDARD
TZOFFSETFROM:-0700
TZOFFSETTO:-0800
TZNAME:PST
DTSTART:19701101T020000
RRULE:FREQ=YEARLY;BYMONTH=11;BYDAY=1SU
END:STANDARD
END:VTIMEZONE
BEGIN:VEVENT
UID:1464587:Event:277565
DTSTAMP:20260421T223424Z
SUMMARY:BIG KRIT  w/ DJ-D-Sharp (WIN TICKETS)
DESCRIPTION:\n\nFriday December 6th\nBIG KRIT\nw/ DJ-Dsharp\n \n@ Pub
 lic Works\n161 Erie Street San Francisco, CA 94103\n>> BUY TICKETS\n\n
 For more information visit https://trueskool.com/events/big-krit-w-dj-
 d-sharp-win-tickets
DTSTART;TZID=America/Los_Angeles:20131206T210000
DTEND;TZID=America/Los_Angeles:20131207T020000
CATEGORIES:"bay area", "san francisco"
LOCATION:Public Works, SF
WEBSITE:http://www.eventbrite.com/e/big-krit-w-dj-d-sharp-public-works
 -tickets-9498348817
URL:http://www.eventbrite.com/e/big-krit-w-dj-d-sharp-public-works-tic
 kets-9498348817
CONTACT:
ORGANIZER:Ankh Marketing
ATTACH;FMTTYPE="image/jpeg":http://storage.ning.com/topology/rest/1.0/
 file/get/2247953251?profile=original
ATTENDEE;ROLE=REQ-PARTICIPANT;PARTSTAT=ACCEPTED;RSVP=TRUE;CN="Ms Lind$
 eyfay":https://trueskool.com/profile/MsLindeyfay
ATTENDEE;ROLE=REQ-PARTICIPANT;PARTSTAT=ACCEPTED;RSVP=TRUE;CN="Chris Ti
 ch":https://trueskool.com/profile/ChrisTich
ATTENDEE;ROLE=REQ-PARTICIPANT;PARTSTAT=ACCEPTED;RSVP=TRUE;CN="Editor's
  Pick":https://trueskool.com/profile/RentheVinylArchaeologist
END:VEVENT
END:VCALENDAR
