BEGIN:VCALENDAR
PRODID:NingEventWidget-v1
VERSION:2.0
METHOD:PUBLISH
BEGIN:VTIMEZONE
TZID:America/Los_Angeles
X-LIC-LOCATION:America/Los_Angeles
BEGIN:DAYLIGHT
TZOFFSETFROM:-0800
TZOFFSETTO:-0700
TZNAME:PDT
DTSTART:19700308T020000
RRULE:FREQ=YEARLY;BYMONTH=3;BYDAY=2SU
END:DAYLIGHT
BEGIN:STANDARD
TZOFFSETFROM:-0700
TZOFFSETTO:-0800
TZNAME:PST
DTSTART:19701101T020000
RRULE:FREQ=YEARLY;BYMONTH=11;BYDAY=1SU
END:STANDARD
END:VTIMEZONE
BEGIN:VEVENT
UID:1464587:Event:658198
DTSTAMP:20260422T081120Z
SUMMARY:Big Freedia
DESCRIPTION:Big Freedia (pronounced “FREE-da”), known as the Quee
 n of Bounce, is at the forefront of the Bounce rap movement (a subgenr
 e of hip-hop born out of New Orleans and known for its call and respon
 se style and lightening speed booty-shaking dance).\nBig Freedia has g
 one from a local New Orleans phenomenon to a national one over the pas
 t two years. After appearing in two episodes of HBO series ‘Treme’
  [as herself] and in 2010, she released her debut EP on Scion A/V Pres
 ents: Big Freedia, produced by NOLA producer BlaqNmilD. The EP feature
 d notables “Excuse” and “Almost Famous; other fan-favorites incl
 ude “Gin in my System” “Azz Everwhere” and “Y’all Get Back
  Now.” Adding to her catalog, this year she released “Nah Who Mad
  and “Booty Whop,” and she was featured on Spank Rock’s Everyt
 hing is Boring and Everyone is a Fucking Liar LP, on the track “Nast
 y.” This month, she was featured on “Peanut Butter” with actor R
 u Paul.\nBig Freedia is in the studio wrapping up her highly-anticipat
 ed debut LP, Da Idol and is filming episodes of a reality TV series fo
 r FUSE TV, Bounce. Finally, in the works is her DVD: Big Freedia Prese
 nts: Twerk Bounce & Pop, featuring real Bounce dance instruction from 
 Big Freedia and some of her best and noted Divas.\n\nFor more informat
 ion visit https://trueskool.com/events/big-freedia
DTSTART;TZID=America/Los_Angeles:20170427T203000
DTEND;TZID=America/Los_Angeles:20170428T020000
CATEGORIES:"san francisco", "bay area"
LOCATION:Mezzanine, San Francisco
WEBSITE:http://www.ticketmaster.com/event/1C00522AC26A4929?camefrom=CF
 C_ANOTHERPLANET_web&brand=mezzanine
URL:http://www.ticketmaster.com/event/1C00522AC26A4929?camefrom=CFC_AN
 OTHERPLANET_web&brand=mezzanine
CONTACT:4156258880
ORGANIZER;CN=MezzanineSF:https://trueskool.com/profile/MezzanineSF
ATTACH;FMTTYPE="image/jpeg":http://storage.ning.com/topology/rest/1.0/
 file/get/2247993225?profile=original
ATTENDEE;ROLE=REQ-PARTICIPANT;PARTSTAT=ACCEPTED;RSVP=TRUE;CN=Mezzanine
 SF:https://trueskool.com/profile/MezzanineSF
END:VEVENT
END:VCALENDAR
