BEGIN:VCALENDAR
PRODID:NingEventWidget-v1
VERSION:2.0
METHOD:PUBLISH
BEGIN:VTIMEZONE
TZID:America/Los_Angeles
X-LIC-LOCATION:America/Los_Angeles
BEGIN:DAYLIGHT
TZOFFSETFROM:-0800
TZOFFSETTO:-0700
TZNAME:PDT
DTSTART:19700308T020000
RRULE:FREQ=YEARLY;BYMONTH=3;BYDAY=2SU
END:DAYLIGHT
BEGIN:STANDARD
TZOFFSETFROM:-0700
TZOFFSETTO:-0800
TZNAME:PST
DTSTART:19701101T020000
RRULE:FREQ=YEARLY;BYMONTH=11;BYDAY=1SU
END:STANDARD
END:VTIMEZONE
BEGIN:VEVENT
UID:1464587:Event:259283
DTSTAMP:20260421T131851Z
SUMMARY:BEYONCÉ (Chicago)
DESCRIPTION:\nDEC  \n13\nFRI\n\nUnited CenterChicago, IL08:00 PM\n\
 nThe Mrs. Carter Show World Tour Starring BEYONCÉDetails: BEYONCÉ\nF
 ind Tickets\n\n\n\n\nFor more information visit https://trueskool.com/
 events/beyonce-chicago
DTSTART;TZID=America/Los_Angeles:20131213T200000
DTEND;TZID=America/Los_Angeles:20131213T230000
CATEGORIES:chicago
LOCATION:United Center, Chicago
WEBSITE:http://www.ticketmaster.com/the-mrs-carter-show-world-tour-chi
 cago-illinois-12-13-2013/event/04004A8C6F7A3979?artistid=894191&majorc
 atid=10001&minorcatid=202&tm_link=artist_msg-1_04004A8C6F7A3979
URL:http://www.ticketmaster.com/the-mrs-carter-show-world-tour-chicago
 -illinois-12-13-2013/event/04004A8C6F7A3979?artistid=894191&majorcatid
 =10001&minorcatid=202&tm_link=artist_msg-1_04004A8C6F7A3979
CONTACT:
ORGANIZER;CN="Editor's Pick":https://trueskool.com/profile/RentheVinyl
 Archaeologist
ATTACH;FMTTYPE="image/jpeg":http://storage.ning.com/topology/rest/1.0/
 file/get/2247944056?profile=original
ATTENDEE;ROLE=REQ-PARTICIPANT;PARTSTAT=ACCEPTED;RSVP=TRUE;CN="Editor's
  Pick":https://trueskool.com/profile/RentheVinylArchaeologist
END:VEVENT
END:VCALENDAR
