BEGIN:VCALENDAR
PRODID:NingEventWidget-v1
VERSION:2.0
METHOD:PUBLISH
BEGIN:VTIMEZONE
TZID:America/Los_Angeles
X-LIC-LOCATION:America/Los_Angeles
BEGIN:DAYLIGHT
TZOFFSETFROM:-0800
TZOFFSETTO:-0700
TZNAME:PDT
DTSTART:19700308T020000
RRULE:FREQ=YEARLY;BYMONTH=3;BYDAY=2SU
END:DAYLIGHT
BEGIN:STANDARD
TZOFFSETFROM:-0700
TZOFFSETTO:-0800
TZNAME:PST
DTSTART:19701101T020000
RRULE:FREQ=YEARLY;BYMONTH=11;BYDAY=1SU
END:STANDARD
END:VTIMEZONE
BEGIN:VEVENT
UID:1464587:Event:672546
DTSTAMP:20260422T235614Z
SUMMARY:Berner Presents Hippie Hill
DESCRIPTION:ENTER TO WIN A PAIR OF TICKETS. WINNER WILL BE DRAWN RANDO
 MLY AND ANNOUNCED 2 DAYS PRIOR TO EVENT. \r\n\r\nFri, Apr 20, 2018  Be
 rner Presents Hippie Hill\r\n\r\n@ Bill Graham Civic Auditorium, San F
 rancisco, CA\r\n5:30 PM\r\n>> BUY TICKETS\r\n\n\nFor more information 
 visit https://trueskool.com/events/berner-presents-hippie-hill
DTSTART;TZID=America/Los_Angeles:20180420T173000
DTEND;TZID=America/Los_Angeles:20180420T230000
CATEGORIES:"bay area", "san francisco"
LOCATION:Bill Graham Civic Auditorium, San Francisco
WEBSITE:https://www.ticketmaster.com/berner-presents-hippie-hill-san-f
 rancisco-california-04-20-2018/event/1C0054370032945D?camefrom=CFC_ANO
 THERPLANET_web&amp;amp;brand=anotherplanet
URL:https://www.ticketmaster.com/berner-presents-hippie-hill-san-franc
 isco-california-04-20-2018/event/1C0054370032945D?camefrom=CFC_ANOTHER
 PLANET_web&amp;amp;brand=anotherplanet
CONTACT:
ORGANIZER:Another Planet Ent
ATTACH;FMTTYPE="image/jpeg":http://storage.ning.com/topology/rest/1.0/
 file/get/2059295374?profile=original
ATTENDEE;ROLE=REQ-PARTICIPANT;PARTSTAT=ACCEPTED;RSVP=TRUE;CN="Editor's
  Pick":https://trueskool.com/profile/RentheVinylArchaeologist
END:VEVENT
END:VCALENDAR
