BEGIN:VCALENDAR
PRODID:NingEventWidget-v1
VERSION:2.0
METHOD:PUBLISH
BEGIN:VTIMEZONE
TZID:America/Los_Angeles
X-LIC-LOCATION:America/Los_Angeles
BEGIN:DAYLIGHT
TZOFFSETFROM:-0800
TZOFFSETTO:-0700
TZNAME:PDT
DTSTART:19700308T020000
RRULE:FREQ=YEARLY;BYMONTH=3;BYDAY=2SU
END:DAYLIGHT
BEGIN:STANDARD
TZOFFSETFROM:-0700
TZOFFSETTO:-0800
TZNAME:PST
DTSTART:19701101T020000
RRULE:FREQ=YEARLY;BYMONTH=11;BYDAY=1SU
END:STANDARD
END:VTIMEZONE
BEGIN:VEVENT
UID:1464587:Event:32733
DTSTAMP:20260420T213041Z
SUMMARY:Beres Hammond
DESCRIPTION:Beres Hammond\nCulture\n\nFriday August 21, 2009\nThe Gran
 d Ballroom at The Regency Center\n1290 Sutter St\nSan Francisco, CA 94
 109\nShow time: 9:00pm\nDoor time: 8:00pm\nAge: All Ages+\n\nFor more 
 information visit https://trueskool.com/events/beres-hammond
DTSTART;TZID=America/Los_Angeles:20090821T210000
DTEND;TZID=America/Los_Angeles:20090822T020000
CATEGORIES:reggae, dancehall, roots
LOCATION:The Grand Ballroom at The Regency Center
WEBSITE:http://www.ticketmaster.com/cgi/outsider.plx?GOTO=http://www.t
 icketmaster.com/event/1C00429BDDE6530E&CAMEFROM=AEGGV_MAIN&brand=golde
 nvoice
URL:http://www.ticketmaster.com/cgi/outsider.plx?GOTO=http://www.ticke
 tmaster.com/event/1C00429BDDE6530E&CAMEFROM=AEGGV_MAIN&brand=goldenvoi
 ce
CONTACT:
ORGANIZER:Golden Voice
ATTACH;FMTTYPE="image/jpeg":http://storage.ning.com/topology/rest/1.0/
 file/get/2247857235?profile=original
ATTENDEE;ROLE=REQ-PARTICIPANT;PARTSTAT=ACCEPTED;RSVP=TRUE;CN="Ren the 
 Vinyl Archaeologist":https://trueskool.com/profile/xh51jvilojur
END:VEVENT
END:VCALENDAR
