BEGIN:VCALENDAR
PRODID:NingEventWidget-v1
VERSION:2.0
METHOD:PUBLISH
BEGIN:VTIMEZONE
TZID:America/Los_Angeles
X-LIC-LOCATION:America/Los_Angeles
BEGIN:DAYLIGHT
TZOFFSETFROM:-0800
TZOFFSETTO:-0700
TZNAME:PDT
DTSTART:19700308T020000
RRULE:FREQ=YEARLY;BYMONTH=3;BYDAY=2SU
END:DAYLIGHT
BEGIN:STANDARD
TZOFFSETFROM:-0700
TZOFFSETTO:-0800
TZNAME:PST
DTSTART:19701101T020000
RRULE:FREQ=YEARLY;BYMONTH=11;BYDAY=1SU
END:STANDARD
END:VTIMEZONE
BEGIN:VEVENT
UID:1464587:Event:65962
DTSTAMP:20260421T161708Z
SUMMARY:Benefit For Berkeley Liberation Radio 104.1fm
DESCRIPTION:Benefit For Berkeley Liberation Radio 104.1fm...\nCome enj
 oy a night of Ruckus,Dance, mingling of Visionaries and Lights.\nHeadl
 ing:Funky Nixons\nFeatured Artist: Yukon,St.Steven,Soul,Miss Jada Simo
 ne',Macsen Apollo,Will War,Joshua James Thorton,Kathleen Stuck and DJ 
 Oracle, DJ Shake\"9169\"...\nFree Speech is Alive N Well!!! The F.C.C 
 nor Corporations can own the Air..It is Our Collective Birth Right-To 
 breathe it,to smell it, to feel it....\nThe Collective of Berkeley Lib
 eration Radio 104.1fm is determined to take the keys away from the ver
 y people driving us to Armageddon...\nIn Solidarity,Struggle N PEACE,S
 oul\nwww.berkeleyliberationradio.net 104.1fm-Local\n\nFor more informa
 tion visit https://trueskool.com/events/benefit-for-berkeley
DTSTART;TZID=America/Los_Angeles:20100917T190000
DTEND;TZID=America/Los_Angeles:20100917T234500
CATEGORIES:east, bay-west, oakland
LOCATION:Revolution Cafe  West Oakland,Calif.
WEBSITE:http://www.berkeleyliberationradio.net
URL:http://www.berkeleyliberationradio.net
CONTACT:xxxxxxxxxxxx
ORGANIZER;CN=Soul:https://trueskool.com/profile/Soul206
ATTACH;FMTTYPE="image/jpeg":
ATTENDEE;ROLE=REQ-PARTICIPANT;PARTSTAT=ACCEPTED;RSVP=TRUE;CN=Soul:http
 s://trueskool.com/profile/Soul206
END:VEVENT
END:VCALENDAR
