BEGIN:VCALENDAR
PRODID:NingEventWidget-v1
VERSION:2.0
METHOD:PUBLISH
BEGIN:VTIMEZONE
TZID:America/Los_Angeles
X-LIC-LOCATION:America/Los_Angeles
BEGIN:DAYLIGHT
TZOFFSETFROM:-0800
TZOFFSETTO:-0700
TZNAME:PDT
DTSTART:19700308T020000
RRULE:FREQ=YEARLY;BYMONTH=3;BYDAY=2SU
END:DAYLIGHT
BEGIN:STANDARD
TZOFFSETFROM:-0700
TZOFFSETTO:-0800
TZNAME:PST
DTSTART:19701101T020000
RRULE:FREQ=YEARLY;BYMONTH=11;BYDAY=1SU
END:STANDARD
END:VTIMEZONE
BEGIN:VEVENT
UID:1464587:Event:673688
DTSTAMP:20260423T012745Z
SUMMARY:Bebel Gilberto
DESCRIPTION:ENTER TO WIN A PAIR OF TICKETS. WINNER WILL BE DRAWN RANDO
 MLY AND ANNOUNCED 2 DAYS PRIOR TO EVENT.\r\n\r\nTHURSDAY, APRIL19 Bebe
 l Gilberto\r\nThe UC Theatre Taube Family Music Hall 2036 University A
 venue, near Downtown Berkeley BART  Berkeley, CA\r\nDoors: 7:00 pm / S
 how: 8:00 pm $55.00 - $65.00\r\n>> BUY TICKETS\r\n\n\nFor more informa
 tion visit https://trueskool.com/events/bebel-gilberto
DTSTART;TZID=America/Los_Angeles:20180419T200000
DTEND;TZID=America/Los_Angeles:20180419T230000
CATEGORIES:"bay area", oakland, "san francisco", "san jose", berkeley
LOCATION:The UC Theatre, Berkeley
WEBSITE:https://www.ticketfly.com/purchase/event/1647247?_ga=2.2129603
 48.998431024.1521109760-1020605821.1521109759
URL:https://www.ticketfly.com/purchase/event/1647247?_ga=2.212960348.9
 98431024.1521109760-1020605821.1521109759
CONTACT:
ORGANIZER;CN="Editor's Pick":https://trueskool.com/profile/RentheVinyl
 Archaeologist
ATTACH;FMTTYPE="image/jpeg":http://storage.ning.com/topology/rest/1.0/
 file/get/2248006207?profile=original
ATTENDEE;ROLE=REQ-PARTICIPANT;PARTSTAT=ACCEPTED;RSVP=TRUE;CN="Elisa Bj
 eldanes":https://trueskool.com/profile/ElisaBjeldanes
ATTENDEE;ROLE=REQ-PARTICIPANT;PARTSTAT=ACCEPTED;RSVP=TRUE;CN="Editor's
  Pick":https://trueskool.com/profile/RentheVinylArchaeologist
END:VEVENT
END:VCALENDAR
