BEGIN:VCALENDAR
PRODID:NingEventWidget-v1
VERSION:2.0
METHOD:PUBLISH
BEGIN:VTIMEZONE
TZID:America/Los_Angeles
X-LIC-LOCATION:America/Los_Angeles
BEGIN:DAYLIGHT
TZOFFSETFROM:-0800
TZOFFSETTO:-0700
TZNAME:PDT
DTSTART:19700308T020000
RRULE:FREQ=YEARLY;BYMONTH=3;BYDAY=2SU
END:DAYLIGHT
BEGIN:STANDARD
TZOFFSETFROM:-0700
TZOFFSETTO:-0800
TZNAME:PST
DTSTART:19701101T020000
RRULE:FREQ=YEARLY;BYMONTH=11;BYDAY=1SU
END:STANDARD
END:VTIMEZONE
BEGIN:VEVENT
UID:1464587:Event:38709
DTSTAMP:20260421T020134Z
SUMMARY:Beats by the Bay
DESCRIPTION:Infinite Music Productions & ArtNowSF present…\n\nBEATS 
 by the BAY\nOutside Lands After Party\nSaturday, August 29th\nMission 
 Rock Café\n\n\nSUB SWARA\n[Low Motion // NYC]\nhttp://www.myspace.com
 /subswara\n\n\nMARTY PARTY\n[PANTyRAID, Marine Parade // NYC]\nhttp://
 www.myspace.com/tracksthatflow\nPANTyRAID July 2009 Mixtape: http://ww
 w.iamalazer.com/mp3/PANTYRAID_MIXTAPE_JUL2009.mp3\n\n\nTHE GASLAMP KIL
 LER\n[Low End Theory, Brainfeeder, Obey // LA]\nhttp://www.myspace.com
 /thegaslampkiller\nWe Make It Good Mix Series Mix: http://wemakeitgood
 .com/mix-series/shilo-presents-the-gaslamp-killer\n\n\nLAZER SWORD\n[I
 nnovative Leisure, Wireblock Recordings // SF/NYC]\nhttp://www.myspace
 .com/lazersword\nSweatpants Money Mix: http://lazersword.net/blog/?p=2
 39\n\n\nMIMOSA\n[Muti Music, SexyTime // SF]\nhttp://www.myspace.com/t
 igranmimosa\n\n\nTHE FLYING SKULLS\n[1320 Records, LowPro // SF]\nhttp
 ://www.myspace.com/theflyingskulls\n\n\nDJUNYA\n[Narco.Hz, Surefire //
  SF]\nhttp://www.myspace.com/djunya\n\n\nMAJITOPE\n[Symbiosis, LowPro 
 // SF]\nhttp://www.myspace.com/majitope\n\n\nEMANCIPATOR\n[Hydeout Pro
 ductions // PDX]\nhttp://www.myspace.com/emancipator\n\n\nBOGL\n[Symbi
 osis, Soundpieces // SF]\nhttp://www.myspace.com/poopyspace\n\n\nDJ MO
 RALE\n[Hacksaw Ent., Dirty Rotten // SF]\nhttp://www.myspace.com/djmor
 ale\n\n\nBENDER\n[Epiphyte Records,Daly City Records // SF]\nhttp://ww
 w.myspace.com/bendernow\n\n\nEVOLUTIONISTA\n[JOBI // OAK]\nhttp://evol
 utionista.com\n\n\nLive Painting:\n\nDes10\nhttp://www.myspace.com/des
 10art\n\nIan Ross\nhttp://www.ianrossart.com\n\nRobert Harris\nhttp://
 cavecreation.com\n\n\n\nCrystalline displays by Light-Records\nhttp://
 light-records.com\n\n\nMission Rock Café\n847 Terry Francois Blvd., S
 F\n$20 Presale @ http://inticketing.com/events/44958/Beats-By-the-Bay\
 n$25 at the door\n\nFor more information visit https://trueskool.com/e
 vents/beats-by-the-bay
DTSTART;TZID=America/Los_Angeles:20090829T210000
DTEND;TZID=America/Los_Angeles:20090830T040000
CATEGORIES:electro, dance, party
LOCATION:Mission Rock Café, San Francisco, CA
WEBSITE:http://myspace,com/artnow
URL:http://myspace,com/artnow
CONTACT:
ORGANIZER:ARTNOWSF
ATTACH;FMTTYPE="image/jpeg":http://storage.ning.com/topology/rest/1.0/
 file/get/2247859918?profile=original
ATTENDEE;ROLE=REQ-PARTICIPANT;PARTSTAT=ACCEPTED;RSVP=TRUE;CN=ARTNOW:ht
 tps://trueskool.com/profile/ARTNOW
END:VEVENT
END:VCALENDAR
