BEGIN:VCALENDAR
PRODID:NingEventWidget-v1
VERSION:2.0
METHOD:PUBLISH
BEGIN:VTIMEZONE
TZID:America/Los_Angeles
X-LIC-LOCATION:America/Los_Angeles
BEGIN:DAYLIGHT
TZOFFSETFROM:-0800
TZOFFSETTO:-0700
TZNAME:PDT
DTSTART:19700308T020000
RRULE:FREQ=YEARLY;BYMONTH=3;BYDAY=2SU
END:DAYLIGHT
BEGIN:STANDARD
TZOFFSETFROM:-0700
TZOFFSETTO:-0800
TZNAME:PST
DTSTART:19701101T020000
RRULE:FREQ=YEARLY;BYMONTH=11;BYDAY=1SU
END:STANDARD
END:VTIMEZONE
BEGIN:VEVENT
UID:1464587:Event:656383
DTSTAMP:20260422T043621Z
SUMMARY:Beats Antique (WIN TICKETS)
DESCRIPTION:ENTER TO WIN A PAIR OF TICKETS. WINNER WILL BE DRAWN RANDO
 MLY AND ANNOUNCED 2 DAYS PRIOR TO EVENT. \n\nSaturday, December 03, 2
 016 Shadowbox Tour BEATS ANTIQUE DeVotchKa  Alam Khan\nFox Theater Oak
 land, CA Show: 7:30pm\n>> BUY TICKETS\n\n\nFor more information visit 
 https://trueskool.com/events/beats-antique-win-tickets
DTSTART;TZID=America/Los_Angeles:20161203T193000
DTEND;TZID=America/Los_Angeles:20161203T230000
CATEGORIES:"bay area", "san francisco"
LOCATION:Fox Theater, Oakland
WEBSITE:http://www.ticketmaster.com/event/1C005121ED819544?camefrom=CF
 C_ANOTHERPLANET_web&brand=anotherplanet
URL:http://www.ticketmaster.com/event/1C005121ED819544?camefrom=CFC_AN
 OTHERPLANET_web&brand=anotherplanet
CONTACT:
ORGANIZER:Another Planet Entertainment
ATTACH;FMTTYPE="image/jpeg":http://storage.ning.com/topology/rest/1.0/
 file/get/2247993012?profile=original
ATTENDEE;ROLE=REQ-PARTICIPANT;PARTSTAT=ACCEPTED;RSVP=TRUE;CN="Editor's
  Pick":https://trueskool.com/profile/RentheVinylArchaeologist
END:VEVENT
END:VCALENDAR
