BEGIN:VCALENDAR
PRODID:NingEventWidget-v1
VERSION:2.0
METHOD:PUBLISH
BEGIN:VTIMEZONE
TZID:America/Los_Angeles
X-LIC-LOCATION:America/Los_Angeles
BEGIN:DAYLIGHT
TZOFFSETFROM:-0800
TZOFFSETTO:-0700
TZNAME:PDT
DTSTART:19700308T020000
RRULE:FREQ=YEARLY;BYMONTH=3;BYDAY=2SU
END:DAYLIGHT
BEGIN:STANDARD
TZOFFSETFROM:-0700
TZOFFSETTO:-0800
TZNAME:PST
DTSTART:19701101T020000
RRULE:FREQ=YEARLY;BYMONTH=11;BYDAY=1SU
END:STANDARD
END:VTIMEZONE
BEGIN:VEVENT
UID:1464587:Event:287511
DTSTAMP:20260420T181508Z
SUMMARY:Beatrock Music 4th Year Anniversary (Bambu, Prometheus Brown, 
 Rocky Rivera, Otayo Dubb, Power Struggle, & Bwan LIVE!)
DESCRIPTION:Celebrate 4 years of BEATROCK MUSIC with LIVE performances
  by: - The BAR (Prometheus Brown x Bambu) - Rocky Rivera  - Otayo Dubb
  - Power Struggle - Bwan Music & more!  A portion of the proceeds will
  go to Typhoon Haiyan relief (NAFCON & STP).  $15 door - $12 adv. Tick
 ets Available at http://www.thenewparish.com/event/448007-beatrock-mus
 ic-4th-year-oakland/  Ages 18 & up  Facebook Event Page: https://www.f
 acebook.com/events/165406440335041/\n\n\nFor more information visit ht
 tps://trueskool.com/events/beatrock-music-4th-year-anniversary-bambu-p
 rometheus-brown-rocky
DTSTART;TZID=America/Los_Angeles:20131227T200000
DTEND;TZID=America/Los_Angeles:20131228T020000
CATEGORIES:oakland, "bay area", "san francisco bay area"
LOCATION:The New Parish, Oakland
WEBSITE:http://www.thenewparish.com/event/448007-beatrock-music-4th-ye
 ar-oakland/
URL:http://www.thenewparish.com/event/448007-beatrock-music-4th-year-o
 akland/
CONTACT:(510) 444-7474
ORGANIZER;CN="Beatrock Music":https://trueskool.com/profile/BeatrockMu
 sic
ATTACH;FMTTYPE="image/jpeg":http://storage.ning.com/topology/rest/1.0/
 file/get/2247956044?profile=original
ATTENDEE;ROLE=REQ-PARTICIPANT;PARTSTAT=ACCEPTED;RSVP=TRUE;CN="Beatrock
  Music":https://trueskool.com/profile/BeatrockMusic
END:VEVENT
END:VCALENDAR
