BEGIN:VCALENDAR
PRODID:NingEventWidget-v1
VERSION:2.0
METHOD:PUBLISH
BEGIN:VTIMEZONE
TZID:America/Los_Angeles
X-LIC-LOCATION:America/Los_Angeles
BEGIN:DAYLIGHT
TZOFFSETFROM:-0800
TZOFFSETTO:-0700
TZNAME:PDT
DTSTART:19700308T020000
RRULE:FREQ=YEARLY;BYMONTH=3;BYDAY=2SU
END:DAYLIGHT
BEGIN:STANDARD
TZOFFSETFROM:-0700
TZOFFSETTO:-0800
TZNAME:PST
DTSTART:19701101T020000
RRULE:FREQ=YEARLY;BYMONTH=11;BYDAY=1SU
END:STANDARD
END:VTIMEZONE
BEGIN:VEVENT
UID:1464587:Event:32935
DTSTAMP:20260421T223423Z
SUMMARY:Beatfellas: Beats, Rhymes and Life Goodfellas Beat Battle
DESCRIPTION:Producers go head to head flipping songs from the soundtra
 ck of Goodfellas into beats as well as remixing acapellas and playing 
 original beats. This is also a canned food drive for Glide Memorial\n\
 n\n\nHosted by FLO, dj'ed by phillipdrummond---footage of the last one
  (Deathproof beat battle up soon at youtube.com/phillipdrummond) and y
 ou can download beats for free from the last beat battle on the blog a
 t myspace.com/phillipdrummond as well as gettin more details there. if
  you want to enter the beat battle we are always lookin for new produc
 ers...holla at me\n\nphillipdrummond@gmail.com\nOfficial Site: http://
 myspace.com/phillipdrummond\n\nFor more information visit https://true
 skool.com/events/beatfellas-beats-rhymes-and
DTSTART;TZID=America/Los_Angeles:20090611T220000
DTEND;TZID=America/Los_Angeles:20090612T020000
CATEGORIES:beat, battle, hip, hop
LOCATION:Element Lounge, San Francisco
WEBSITE:http://myspace.com/phillipdrummond
URL:http://myspace.com/phillipdrummond
CONTACT:
ORGANIZER;CN=phillipdrummond:https://trueskool.com/profile/phillipdrum
 mond
ATTACH;FMTTYPE="image/jpeg":http://storage.ning.com/topology/rest/1.0/
 file/get/2247858155?profile=original
ATTENDEE;ROLE=REQ-PARTICIPANT;PARTSTAT=ACCEPTED;RSVP=TRUE;CN=phillipdr
 ummond:https://trueskool.com/profile/phillipdrummond
END:VEVENT
END:VCALENDAR
