BEGIN:VCALENDAR
PRODID:NingEventWidget-v1
VERSION:2.0
METHOD:PUBLISH
BEGIN:VTIMEZONE
TZID:America/Los_Angeles
X-LIC-LOCATION:America/Los_Angeles
BEGIN:DAYLIGHT
TZOFFSETFROM:-0800
TZOFFSETTO:-0700
TZNAME:PDT
DTSTART:19700308T020000
RRULE:FREQ=YEARLY;BYMONTH=3;BYDAY=2SU
END:DAYLIGHT
BEGIN:STANDARD
TZOFFSETFROM:-0700
TZOFFSETTO:-0800
TZNAME:PST
DTSTART:19701101T020000
RRULE:FREQ=YEARLY;BYMONTH=11;BYDAY=1SU
END:STANDARD
END:VTIMEZONE
BEGIN:VEVENT
UID:1464587:Event:41188
DTSTAMP:20260422T135304Z
SUMMARY:Beat Machine Tour: Blujemz, Wajeed, Ge-ology
DESCRIPTION:\n\n\n\nFor more information visit https://trueskool.com/e
 vents/beat-machine-tour-blujemz
DTSTART;TZID=America/Los_Angeles:20091006T220000
DTEND;TZID=America/Los_Angeles:20091007T140000
CATEGORIES:beat, machine, tour, blujemz, wajeed, ge-ology
LOCATION:330 Ritch, San Francisco, CA
WEBSITE:http://sanfrancisco.going.com/event-667084;Beat_Machine_feat_W
 aajeed_Ge-ology_BluJemz
URL:http://sanfrancisco.going.com/event-667084;Beat_Machine_feat_Waaje
 ed_Ge-ology_BluJemz
CONTACT:
ORGANIZER:Ankh Marketing, Soul Deluxxe, Local 1200
ATTACH;FMTTYPE="image/jpeg":http://storage.ning.com/topology/rest/1.0/
 file/get/2247866120?profile=original
ATTENDEE;ROLE=REQ-PARTICIPANT;PARTSTAT=ACCEPTED;RSVP=TRUE;CN="Editor's
  Pick":https://trueskool.com/profile/RentheVinylArchaeologist
END:VEVENT
END:VCALENDAR
