BEGIN:VCALENDAR
PRODID:NingEventWidget-v1
VERSION:2.0
METHOD:PUBLISH
BEGIN:VTIMEZONE
TZID:America/Los_Angeles
X-LIC-LOCATION:America/Los_Angeles
BEGIN:DAYLIGHT
TZOFFSETFROM:-0800
TZOFFSETTO:-0700
TZNAME:PDT
DTSTART:19700308T020000
RRULE:FREQ=YEARLY;BYMONTH=3;BYDAY=2SU
END:DAYLIGHT
BEGIN:STANDARD
TZOFFSETFROM:-0700
TZOFFSETTO:-0800
TZNAME:PST
DTSTART:19701101T020000
RRULE:FREQ=YEARLY;BYMONTH=11;BYDAY=1SU
END:STANDARD
END:VTIMEZONE
BEGIN:VEVENT
UID:1464587:Event:64649
DTSTAMP:20260421T112029Z
SUMMARY:Bear Witness Launch Party
DESCRIPTION:BEAR WITNESS LAUNCH PARTY  featuring  CASUAL w/ DJ TOURE M
 ISTAH FAB Z-MAN DJ QUEST DJ PLATURN JERN EYE DOPESTYLE MAGNETO HOSTED 
 BY Z-MAN  BRWTNSS x CASUAL T-shirt Release  THURS SEPT 16TH 2010  MANO
 R WEST 750 Harrison St. SF (415) 407-4565  door @ 9:30p show @ 10p $10
  @ door 21 & Up  http://www.brwtnss.com\n\nFor more information visit 
 https://trueskool.com/events/bear-witness-launch-party
DTSTART;TZID=America/Los_Angeles:20100916T213000
DTEND;TZID=America/Los_Angeles:20100917T020000
CATEGORIES:sf, ca
LOCATION:Manor West
WEBSITE:http://www.brwtnss.com/
URL:http://www.brwtnss.com/
CONTACT:(415) 407-4565
ORGANIZER;CN="Bear Witness":https://trueskool.com/profile/BearWitness
ATTACH;FMTTYPE="image/jpeg":http://storage.ning.com/topology/rest/1.0/
 file/get/2247888290?profile=original
ATTENDEE;ROLE=REQ-PARTICIPANT;PARTSTAT=ACCEPTED;RSVP=TRUE;CN="Bear Wit
 ness":https://trueskool.com/profile/BearWitness
END:VEVENT
END:VCALENDAR
