BEGIN:VCALENDAR
PRODID:NingEventWidget-v1
VERSION:2.0
METHOD:PUBLISH
BEGIN:VTIMEZONE
TZID:America/Los_Angeles
X-LIC-LOCATION:America/Los_Angeles
BEGIN:DAYLIGHT
TZOFFSETFROM:-0800
TZOFFSETTO:-0700
TZNAME:PDT
DTSTART:19700308T020000
RRULE:FREQ=YEARLY;BYMONTH=3;BYDAY=2SU
END:DAYLIGHT
BEGIN:STANDARD
TZOFFSETFROM:-0700
TZOFFSETTO:-0800
TZNAME:PST
DTSTART:19701101T020000
RRULE:FREQ=YEARLY;BYMONTH=11;BYDAY=1SU
END:STANDARD
END:VTIMEZONE
BEGIN:VEVENT
UID:1464587:Event:26855
DTSTAMP:20260421T034406Z
SUMMARY:BBoy BGirl Workshp hosted by Crazy Legs of Rock Steady Crew
DESCRIPTION:Legendary BBOY and icon in hip hop culture, Crazy Legs of 
 Rock Steady Crew comes the bay to host a workshop at the San Francisco
  Dance Center. LIMITED SPACE and this workshop will sell out!\n\nPre-r
 egister today at: http://crazylegsworkshop.com/\n\nWorkshop I - Founda
 tions (12pm - 2pm)\nWorkshop II - Masters (3pm - 5pm)\n\nEach workshop
  $40.\nSave $10, when you pre-register for both. At-door-registration 
 (if space avail) $50 per workshop.\n\nOpen to ALL ages and levels. Sne
 akers and Knee pads REQUIRED. Absolutely NO video will be permitted.\n
 \nFor more information visit https://trueskool.com/events/bboy-bgirl-w
 orkshp-hosted-by
DTSTART;TZID=America/Los_Angeles:20090419T120000
DTEND;TZID=America/Los_Angeles:20090419T170000
CATEGORIES:bboy, bgirl, workshop
LOCATION:San Francisco Dance Center (inside the Odd Fellows Building, 
 5th Floor)
WEBSITE:http://crazylegsworkshop.com/
URL:http://crazylegsworkshop.com/
CONTACT:
ORGANIZER;CN="mona liza reyes":https://trueskool.com/profile/monalizar
 eyes
ATTACH;FMTTYPE="image/jpeg":http://storage.ning.com/topology/rest/1.0/
 file/get/2247855608?profile=original
ATTENDEE;ROLE=REQ-PARTICIPANT;PARTSTAT=ACCEPTED;RSVP=TRUE;CN="mona liz
 a reyes":https://trueskool.com/profile/monalizareyes
END:VEVENT
END:VCALENDAR
