BEGIN:VCALENDAR
PRODID:NingEventWidget-v1
VERSION:2.0
METHOD:PUBLISH
BEGIN:VTIMEZONE
TZID:America/Los_Angeles
X-LIC-LOCATION:America/Los_Angeles
BEGIN:DAYLIGHT
TZOFFSETFROM:-0800
TZOFFSETTO:-0700
TZNAME:PDT
DTSTART:19700308T020000
RRULE:FREQ=YEARLY;BYMONTH=3;BYDAY=2SU
END:DAYLIGHT
BEGIN:STANDARD
TZOFFSETFROM:-0700
TZOFFSETTO:-0800
TZNAME:PST
DTSTART:19701101T020000
RRULE:FREQ=YEARLY;BYMONTH=11;BYDAY=1SU
END:STANDARD
END:VTIMEZONE
BEGIN:VEVENT
UID:1464587:Event:58596
DTSTAMP:20260421T085353Z
SUMMARY:Bay Area Producers Conference (BAPC) 2010
DESCRIPTION:The Bay Area Producers Conference (BAPC) was founded by Ma
 rio (Rio) Flores and Eric \"Big Chains\" Garcia who also owns Good Fel
 az Ent. & Management.\n\nRio was inspired and moved after attending Sh
 a Money XL's second annual producers conference held in Phoenix, AZ in
  March of 2008. When Rio came back home he decided to start a movement
  in the Bay Area with its first producers conference and now working o
 n the 2nd Annual BAPC.\n\nThe Bay Area Producers Conference (BAPC) is 
 a one-day workshop that will serve as a venue for upcoming producers, 
 artists,writers, taste makers, engineers, Djâ€™s and the music industr
 y as whole to network and learn more about the music business and itâ€
 ™s different branches.\n\nOur workshops will provide great panelists i
 ncluding celebrity producers and artists, information about new produc
 tion gear, technology, promotion, A&R, publishing, marketing, manageme
 nt and representation. This year we're also adding online distribution
 , music video directors and marketing.\n\n\n\n\n!!!!GET YOUR MUSIC HEA
 RD!!!!\n\nThis package gives you all benefits from the regular registr
 ant plus the opportunity to sit down with major music label A&R's and 
 Celebrity Producers from the conference to listen to your tracks or de
 mo.\n\nThe A&R's and Producers will give you feedback and evaluate you
 r music as well (Evaluation Sheet). This package is open to artists an
 d producers. ONLY 48 SLOTS WILL BE OPEN!!!\n\nFirst come, first served
 . You will be able to pick the A&R or Producer of your choice by the o
 rder of your registration date on our account.\n\nPICK THE A&R OF YOUR
  CHOICE\n\n\n\n\n\nBay Area Producers Conference (BAPC) 2010- Dre (G-U
 nit) from Good Felaz on Vimeo.\n\n\n\nBay Area Producers Conference (B
 APC) 2009/2010 from Good Felaz on Vimeo.\n\n\nFor more information vis
 it https://trueskool.com/events/bay-area-producers-conference
DTSTART;TZID=America/Los_Angeles:20100724T110000
DTEND;TZID=America/Los_Angeles:20100724T210000
CATEGORIES:hip, hop, "r&b", pop, electronica, soul, rock
LOCATION:Fort Mason in San Francisco CA
WEBSITE:http://www.bayareaproducersconference.com/panels.shtml
URL:http://www.bayareaproducersconference.com/panels.shtml
CONTACT:415-225-8007
ORGANIZER;CN="Good Felaz Ent.":https://trueskool.com/profile/GoodFelaz
 Ent
ATTACH;FMTTYPE="image/jpeg":http://storage.ning.com/topology/rest/1.0/
 file/get/2247882353?profile=original
ATTENDEE;ROLE=REQ-PARTICIPANT;PARTSTAT=ACCEPTED;RSVP=TRUE;CN="Good Fel
 az Ent.":https://trueskool.com/profile/GoodFelazEnt
END:VEVENT
END:VCALENDAR
