BEGIN:VCALENDAR
PRODID:NingEventWidget-v1
VERSION:2.0
METHOD:PUBLISH
BEGIN:VTIMEZONE
TZID:America/Los_Angeles
X-LIC-LOCATION:America/Los_Angeles
BEGIN:DAYLIGHT
TZOFFSETFROM:-0800
TZOFFSETTO:-0700
TZNAME:PDT
DTSTART:19700308T020000
RRULE:FREQ=YEARLY;BYMONTH=3;BYDAY=2SU
END:DAYLIGHT
BEGIN:STANDARD
TZOFFSETFROM:-0700
TZOFFSETTO:-0800
TZNAME:PST
DTSTART:19701101T020000
RRULE:FREQ=YEARLY;BYMONTH=11;BYDAY=1SU
END:STANDARD
END:VTIMEZONE
BEGIN:VEVENT
UID:1464587:Event:673110
DTSTAMP:20260421T065934Z
SUMMARY:Bay Area 'DRE DAY' 2018 feat. DJ Battlecat
DESCRIPTION:BAY AREA 'DRE DAY' 2018February 23rd at The UPTOWN - Oak
 land, CA----->Featuring multi-platinum producer & legendary West Coast
  DJ...\"DJ BATTLECAT\"[ Dr Dre's The Pharmacy | DPG | Uncle Jamm's Ar
 my]----->with support from...Teeko [ @ teekomusic ]+ residents DJ Pl
 aturn & DJ Franchise& opening set from...DjCasper [ Tampa, FL ]---
 -->- live DJ sets playing all things Dr. Dre & related artists + sampl
 es, edits, & remixes- vendors featuring exclusive Dre Day merchandise 
 from BRLSQ & Adapt- visuals, drink specials, Chronic photo booth, l
 arge dancefloor, world class sound, & more!----->1928 Telegraph Ave | 
 21+ | Doors @ 9pm\n\nFor more information visit https://trueskool.com/
 events/bay-area-dre-day-2018-feat-dj-battlecat
DTSTART;TZID=America/Los_Angeles:20180223T210000
DTEND;TZID=America/Los_Angeles:20180224T020000
CATEGORIES:the, uptown, oakland, california
LOCATION:the uptown, oakland, california
WEBSITE:http://www.bayareadreday2018.eventbrite.com
URL:http://www.bayareadreday2018.eventbrite.com
CONTACT:
ORGANIZER;CN="DJ Platurn":https://trueskool.com/profile/DJPlaturn
ATTACH;FMTTYPE="image/jpeg":http://storage.ning.com/topology/rest/1.0/
 file/get/4204721746?profile=original
ATTENDEE;ROLE=REQ-PARTICIPANT;PARTSTAT=ACCEPTED;RSVP=TRUE;CN="Editor's
  Pick":https://trueskool.com/profile/RentheVinylArchaeologist
ATTENDEE;ROLE=REQ-PARTICIPANT;PARTSTAT=ACCEPTED;RSVP=TRUE;CN="DJ Platu
 rn":https://trueskool.com/profile/DJPlaturn
END:VEVENT
END:VCALENDAR
