BEGIN:VCALENDAR
PRODID:NingEventWidget-v1
VERSION:2.0
METHOD:PUBLISH
BEGIN:VTIMEZONE
TZID:America/Los_Angeles
X-LIC-LOCATION:America/Los_Angeles
BEGIN:DAYLIGHT
TZOFFSETFROM:-0800
TZOFFSETTO:-0700
TZNAME:PDT
DTSTART:19700308T020000
RRULE:FREQ=YEARLY;BYMONTH=3;BYDAY=2SU
END:DAYLIGHT
BEGIN:STANDARD
TZOFFSETFROM:-0700
TZOFFSETTO:-0800
TZNAME:PST
DTSTART:19701101T020000
RRULE:FREQ=YEARLY;BYMONTH=11;BYDAY=1SU
END:STANDARD
END:VTIMEZONE
BEGIN:VEVENT
UID:1464587:Event:30427
DTSTAMP:20260420T194350Z
SUMMARY:BAY AREA CYPHER: Freestyle Documentary DVD RELEASE
DESCRIPTION:April 2009 marks the debut DVD release of “BAY AREA CYPH
 ER”, a performance documentary that blends live freestyle presentati
 ons with short interviews to document the unique creativity of Hip Hop
  in the San Francisco Bay Area.\n\nThrough the Hip Hop elements of rhy
 me and dance this documentary highlights the spiritual and communal as
 pects of Hip Hop culture, showing how improvisational freestyle is key
  to manifesting a higher energetic vibration.\n\n\nThe piece incorpora
 tes footage shot on location in the Bay Area including the Guerilla Ca
 fé in Berkeley, CA, the East Side Arts Alliance in East Oakland, West
  Oakland’s Lower Bottoms Black Cultural District, and The DJ Project
  in San Francisco, CA.\n\n\n\nFor more information visit https://trues
 kool.com/events/bay-area-cypher-freestyle
DTSTART;TZID=America/Los_Angeles:20090424T190000
DTEND;TZID=America/Los_Angeles:20090424T200000
CATEGORIES:film, screening, and, performance
LOCATION:Berkeley City College Auditorium
WEBSITE:
URL:
CONTACT:
ORGANIZER;CN="Idris Hassan":https://trueskool.com/profile/IdrisHassan
ATTACH;FMTTYPE="image/jpeg":
ATTENDEE;ROLE=REQ-PARTICIPANT;PARTSTAT=ACCEPTED;RSVP=TRUE;CN="Idris Ha
 ssan":https://trueskool.com/profile/IdrisHassan
END:VEVENT
END:VCALENDAR
