BEGIN:VCALENDAR
PRODID:NingEventWidget-v1
VERSION:2.0
METHOD:PUBLISH
BEGIN:VTIMEZONE
TZID:America/Los_Angeles
X-LIC-LOCATION:America/Los_Angeles
BEGIN:DAYLIGHT
TZOFFSETFROM:-0800
TZOFFSETTO:-0700
TZNAME:PDT
DTSTART:19700308T020000
RRULE:FREQ=YEARLY;BYMONTH=3;BYDAY=2SU
END:DAYLIGHT
BEGIN:STANDARD
TZOFFSETFROM:-0700
TZOFFSETTO:-0800
TZNAME:PST
DTSTART:19701101T020000
RRULE:FREQ=YEARLY;BYMONTH=11;BYDAY=1SU
END:STANDARD
END:VTIMEZONE
BEGIN:VEVENT
UID:1464587:Event:153795
DTSTAMP:20260421T194713Z
SUMMARY:Bay Area Artist At Their Best Entertainment Showcase 2013
DESCRIPTION:Doors open at 6:00 p.m. All proceeds will be donated to th
 e Black Repertory Youth Program.\n\nFor more information visit https:/
 /trueskool.com/events/bay-area-artist-at-their-best-entertainment-show
 case-2013
DTSTART;TZID=America/Los_Angeles:20130119T190000
DTEND;TZID=America/Los_Angeles:20130119T220000
CATEGORIES:berkeley, california
LOCATION:Berkeley
WEBSITE:
URL:
CONTACT:
ORGANIZER;CN="Airrial Gates":https://trueskool.com/profile/AirrialGate
 s
ATTACH;FMTTYPE="image/jpeg":http://storage.ning.com/topology/rest/1.0/
 file/get/2106918878?profile=original
ATTENDEE;ROLE=REQ-PARTICIPANT;PARTSTAT=ACCEPTED;RSVP=TRUE;CN="Airrial 
 Gates":https://trueskool.com/profile/AirrialGates
END:VEVENT
END:VCALENDAR
