BEGIN:VCALENDAR
PRODID:NingEventWidget-v1
VERSION:2.0
METHOD:PUBLISH
BEGIN:VTIMEZONE
TZID:America/Los_Angeles
X-LIC-LOCATION:America/Los_Angeles
BEGIN:DAYLIGHT
TZOFFSETFROM:-0800
TZOFFSETTO:-0700
TZNAME:PDT
DTSTART:19700308T020000
RRULE:FREQ=YEARLY;BYMONTH=3;BYDAY=2SU
END:DAYLIGHT
BEGIN:STANDARD
TZOFFSETFROM:-0700
TZOFFSETTO:-0800
TZNAME:PST
DTSTART:19701101T020000
RRULE:FREQ=YEARLY;BYMONTH=11;BYDAY=1SU
END:STANDARD
END:VTIMEZONE
BEGIN:VEVENT
UID:1464587:Event:31838
DTSTAMP:20260421T215904Z
SUMMARY:Battle of the Lyricists THIS WEEKEND feat JAHI and more...
DESCRIPTION:See flyer for all the details. Come by and show your suppo
 rt...Should be fun..\n\nFor more information visit https://trueskool.c
 om/events/battle-of-the-lyricists-this
DTSTART;TZID=America/Los_Angeles:20090509T170000
DTEND;TZID=America/Los_Angeles:20090509T190000
CATEGORIES:hip, hop
LOCATION:Hayward, CA Cal State Hayward East Bay Campus
WEBSITE:
URL:
CONTACT:
ORGANIZER:Associated Students- big ups!
ATTACH;FMTTYPE="image/jpeg":http://storage.ning.com/topology/rest/1.0/
 file/get/2247857139?profile=original
ATTENDEE;ROLE=REQ-PARTICIPANT;PARTSTAT=ACCEPTED;RSVP=TRUE;CN=lion510i:
 https://trueskool.com/profile/lion510i
ATTENDEE;ROLE=REQ-PARTICIPANT;PARTSTAT=ACCEPTED;RSVP=TRUE;CN=JAHI:http
 s://trueskool.com/profile/JAHI
END:VEVENT
END:VCALENDAR
