BEGIN:VCALENDAR
PRODID:NingEventWidget-v1
VERSION:2.0
METHOD:PUBLISH
BEGIN:VTIMEZONE
TZID:America/Los_Angeles
X-LIC-LOCATION:America/Los_Angeles
BEGIN:DAYLIGHT
TZOFFSETFROM:-0800
TZOFFSETTO:-0700
TZNAME:PDT
DTSTART:19700308T020000
RRULE:FREQ=YEARLY;BYMONTH=3;BYDAY=2SU
END:DAYLIGHT
BEGIN:STANDARD
TZOFFSETFROM:-0700
TZOFFSETTO:-0800
TZNAME:PST
DTSTART:19701101T020000
RRULE:FREQ=YEARLY;BYMONTH=11;BYDAY=1SU
END:STANDARD
END:VTIMEZONE
BEGIN:VEVENT
UID:1464587:Event:38877
DTSTAMP:20260420T200341Z
SUMMARY:Battle of the Bay 5: LA vs the Bay Grindtime Beat Battle and M
 C Battle
DESCRIPTION:THIS IS AN ALL AGES EVENT\n\nMC Battle and LA vs the Bay G
 rindtime Beat Battle on Friday Sept 4th (6pm-2am)\n\nand MC Battle on 
 Saturday Sept 5th (12pm-6pm)\n\nfor info on beat battle:\nmyspace.com/
 phillipdrummond\nphillipdrummond@gmail.com\n\nfor info MC battle, pres
 s and any other questions:\nmyspace.com/lushone\nnickcarletti@yahoo.co
 m\n\nFor more information visit https://trueskool.com/events/battle-of
 -the-bay-5-la-vs-the
DTSTART;TZID=America/Los_Angeles:20090904T180000
DTEND;TZID=America/Los_Angeles:20090905T180000
CATEGORIES:hip, hop, beat, battle, mc
LOCATION:Oakland Metro Operahouse
WEBSITE:http://www.oaklandmetro.org/directions.html
URL:http://www.oaklandmetro.org/directions.html
CONTACT:
ORGANIZER:Lush One and Phillipdrummond
ATTACH;FMTTYPE="image/jpeg":http://storage.ning.com/topology/rest/1.0/
 file/get/2247860243?profile=original
ATTENDEE;ROLE=REQ-PARTICIPANT;PARTSTAT=ACCEPTED;RSVP=TRUE;CN=phillipdr
 ummond:https://trueskool.com/profile/phillipdrummond
END:VEVENT
END:VCALENDAR
