BEGIN:VCALENDAR
PRODID:NingEventWidget-v1
VERSION:2.0
METHOD:PUBLISH
BEGIN:VTIMEZONE
TZID:America/Los_Angeles
X-LIC-LOCATION:America/Los_Angeles
BEGIN:DAYLIGHT
TZOFFSETFROM:-0800
TZOFFSETTO:-0700
TZNAME:PDT
DTSTART:19700308T020000
RRULE:FREQ=YEARLY;BYMONTH=3;BYDAY=2SU
END:DAYLIGHT
BEGIN:STANDARD
TZOFFSETFROM:-0700
TZOFFSETTO:-0800
TZNAME:PST
DTSTART:19701101T020000
RRULE:FREQ=YEARLY;BYMONTH=11;BYDAY=1SU
END:STANDARD
END:VTIMEZONE
BEGIN:VEVENT
UID:1464587:Event:41395
DTSTAMP:20260420T213305Z
SUMMARY:B.A.S.S. presents Everlasting BASS f/ K.Flay LIVE & DJ Deeandr
 oid
DESCRIPTION:B.A.S.S./Bay Area Sistah Sound\nThe Bay's Premier Lady DJ 
 Crew\npresents\nEVERLASTING BASS\nSat Oct. 24, 2009\n\nEVERY 4TH SATUR
 DAY @ POLENG\n\nFeaturing B.A.S.S. Resident Ladies\nDJ ZITA (Golden So
 undscapes)\nPAM THE FUNKSTRESS (The Coup)\n\nLive Performance by MC/Pr
 oducer\nK.FLAY\n\nSpecial Guest DJ\nDEEANDROID (SKRATCHPAD/PEACHES)\n\
 nDance Crew\nBODIROCK CULTURE\n\nHostess\nMISS KATINA\n\nListen/Downlo
 ad to B.A.S.S. Live Audio Recordings Here:\nhttp://bassladydjs.com/lis
 ten.html\n\nLook at B.A.S.S. Event Photos Here:\nhttp://bassladydjs.co
 m/look.html\n\n@ Poleng Lounge SF\n1751 Fulton St. @ Masonic\n10pm-2am
 , 21+, $10\n$5 before 11pm w/RSVP\nSend Full Names & Email Addresses (
 no pluses) to:\nguestlist@bassladydjs.com\n\nGiveaways by Mixerfriendl
 y & Frank\nDrink Specials\n\nStay Connnected: http://bassladydjs.com\n
 \n\n\nFor more information visit https://trueskool.com/events/bass-pre
 sents-everlasting-bass
DTSTART;TZID=America/Los_Angeles:20091024T220000
DTEND;TZID=America/Los_Angeles:20091025T020000
CATEGORIES:hip, hop, dancehall, reggae, "r&b", old, school, funk
LOCATION:Poleng Lounge, San Francisco, CA
WEBSITE:http://www.bassladydjs.com
URL:http://www.bassladydjs.com
CONTACT:
ORGANIZER;CN="Fiyah Lilly":https://trueskool.com/profile/FiyahLilly
ATTACH;FMTTYPE="image/jpeg":http://storage.ning.com/topology/rest/1.0/
 file/get/2247869401?profile=original
ATTENDEE;ROLE=REQ-PARTICIPANT;PARTSTAT=ACCEPTED;RSVP=TRUE;CN="Fiyah Li
 lly":https://trueskool.com/profile/FiyahLilly
END:VEVENT
END:VCALENDAR
