BEGIN:VCALENDAR
PRODID:NingEventWidget-v1
VERSION:2.0
METHOD:PUBLISH
BEGIN:VTIMEZONE
TZID:America/Los_Angeles
X-LIC-LOCATION:America/Los_Angeles
BEGIN:DAYLIGHT
TZOFFSETFROM:-0800
TZOFFSETTO:-0700
TZNAME:PDT
DTSTART:19700308T020000
RRULE:FREQ=YEARLY;BYMONTH=3;BYDAY=2SU
END:DAYLIGHT
BEGIN:STANDARD
TZOFFSETFROM:-0700
TZOFFSETTO:-0800
TZNAME:PST
DTSTART:19701101T020000
RRULE:FREQ=YEARLY;BYMONTH=11;BYDAY=1SU
END:STANDARD
END:VTIMEZONE
BEGIN:VEVENT
UID:1464587:Event:306488
DTSTAMP:20260421T070104Z
SUMMARY:Bass Cabaret: Bonnie & Clyde's Valentine 2014
DESCRIPTION:On Saturday, Feb 15th, we celebrate the infamous 1930s cou
 ple with our second annual \"Bonnie & Clyde's Valentine\" party. You'l
 l walk into a Prohibition-era world filled with visual delights at eve
 ry turn -- from incredible set design to feather boas and glittery lip
 s. Our home for the evening will be the 6,000 square foot dance club: 
 Mighty, a San Francisco \"Best of the Bay\" recipient boasting an awar
 d-winning sound system that will fill the space with booty-shaking bas
 s music by top producers and DJs. Talent includes Lafa Taylor Live, wh
 ose collage of infectiously harmonic, bass heavy, multi-tempo music qu
 ickly heats up the dance floor alongside live vocals ranging from swee
 t melodic choruses to tongue-twisting rapid rhymes, as well as VibeSqu
 aD, a Chicago-born artist who pushes the styles of breakbeat, dub, and
  glitch-hop into undiscovered territory while remembering to carry the
  pure intention that started it all: to make music that strongly vibra
 tes positivity for the sheer sake of shared joy.\n\nFor more informati
 on visit https://trueskool.com/events/bass-cabaret-bonnie-clyde-s-vale
 ntine-2014
DTSTART;TZID=America/Los_Angeles:20140215T220000
DTEND;TZID=America/Los_Angeles:20140216T030000
CATEGORIES:san, francisco, california
LOCATION:Mighty, San Francisco
WEBSITE:http://www.eventbrite.com/e/bass-cabaret-bonnie-clydes-valenti
 ne-wmusic-by-lafa-taylor-vibesquad-tickets-10009852739
URL:http://www.eventbrite.com/e/bass-cabaret-bonnie-clydes-valentine-w
 music-by-lafa-taylor-vibesquad-tickets-10009852739
CONTACT:
ORGANIZER:Mighty
ATTACH;FMTTYPE="image/jpeg":http://storage.ning.com/topology/rest/1.0/
 file/get/2247956906?profile=original
ATTENDEE;ROLE=REQ-PARTICIPANT;PARTSTAT=ACCEPTED;RSVP=TRUE;CN="Alexandr
 a Alden":https://trueskool.com/profile/AlexandraAlden
END:VEVENT
END:VCALENDAR
