BEGIN:VCALENDAR
PRODID:NingEventWidget-v1
VERSION:2.0
METHOD:PUBLISH
BEGIN:VTIMEZONE
TZID:America/Los_Angeles
X-LIC-LOCATION:America/Los_Angeles
BEGIN:DAYLIGHT
TZOFFSETFROM:-0800
TZOFFSETTO:-0700
TZNAME:PDT
DTSTART:19700308T020000
RRULE:FREQ=YEARLY;BYMONTH=3;BYDAY=2SU
END:DAYLIGHT
BEGIN:STANDARD
TZOFFSETFROM:-0700
TZOFFSETTO:-0800
TZNAME:PST
DTSTART:19701101T020000
RRULE:FREQ=YEARLY;BYMONTH=11;BYDAY=1SU
END:STANDARD
END:VTIMEZONE
BEGIN:VEVENT
UID:1464587:Event:38712
DTSTAMP:20260421T051943Z
SUMMARY:Bang The Drum
DESCRIPTION:Stand Up!!!This is it. . .the biggest event all year, ever
 y year.  Come out and celebrate as we Bang The Drum, and celebrate th
 e anniversary of the longest-running Hip-Hop show in the world: The Dr
 um, at KZSU Stanford, 90.1FM!!! Those of you who've been in the past k
 now; those who don't: This Is The One.  25 MCs & DJs perform live on 
 stage, reppin' for 25 Years On Air.  This event is FREE, all ages, an
 d outdoors at Golden Gate Park's Peacock Meadow from 1-5 PM.  With an
  afterparty from 10PM -2AM at Club Six; it's the cure for what ails ya
 .  The lineup this year includes Naughty by Nature, Tash (The Alkohol
 ics), Speech (Arrested Development), Hieroglyphics, Blackalicious, Q-B
 ert, Zumbi, Kung Fu Vampire, Motion Man, The Rec League, Jihad From Th
 ird Sight, The Bayliens, DelMon Crew, Davey D, Mark Spitz, D-Sharp, Pr
 ohoezack, Niamaj, DJ I-Cue, Subverse, D.U.S.T.,  Sellassie, And more 
 and more And More!!!Peep the map below, put it on your calendar Now, a
 nd Spread The Word!!!  It's time to Bang The Drum!!!\n\nFor more info
 rmation visit https://trueskool.com/events/bang-the-drum
DTSTART;TZID=America/Los_Angeles:20090830T130000
DTEND;TZID=America/Los_Angeles:20090830T170000
CATEGORIES:hip, hop
LOCATION:Peacock Meadow
WEBSITE:http://KevvyKev.com
URL:http://KevvyKev.com
CONTACT:
ORGANIZER;CN="Kevvy Kev":https://trueskool.com/profile/KevvyKev
ATTACH;FMTTYPE="image/jpeg":http://storage.ning.com/topology/rest/1.0/
 file/get/2247868890?profile=original
ATTENDEE;ROLE=REQ-PARTICIPANT;PARTSTAT=ACCEPTED;RSVP=TRUE;CN="Kevvy Ke
 v":https://trueskool.com/profile/KevvyKev
END:VEVENT
END:VCALENDAR
