BEGIN:VCALENDAR
PRODID:NingEventWidget-v1
VERSION:2.0
METHOD:PUBLISH
BEGIN:VTIMEZONE
TZID:America/Los_Angeles
X-LIC-LOCATION:America/Los_Angeles
BEGIN:DAYLIGHT
TZOFFSETFROM:-0800
TZOFFSETTO:-0700
TZNAME:PDT
DTSTART:19700308T020000
RRULE:FREQ=YEARLY;BYMONTH=3;BYDAY=2SU
END:DAYLIGHT
BEGIN:STANDARD
TZOFFSETFROM:-0700
TZOFFSETTO:-0800
TZNAME:PST
DTSTART:19701101T020000
RRULE:FREQ=YEARLY;BYMONTH=11;BYDAY=1SU
END:STANDARD
END:VTIMEZONE
BEGIN:VEVENT
UID:1464587:Event:38807
DTSTAMP:20260421T022311Z
SUMMARY:Bang the Drum Afterparty
DESCRIPTION:Kevvy Kev & The Drum Posse Present:\nBang The Drum AfterPa
 rty\nWhat do Naughty by Nature, Tash (Alkaholics), Speech (Arrested De
 velopment), Blackalicious, Hiero, Q-Bert, KZSU, and YOU have in common
 ?\nThey all prove that the Best Things In Life Are FREE!\nSunday, Augu
 st 30th in Golden Gate Park, from 1-5PM,\nall the above and Many many 
 more Bang The Drum. . .\ntell EVERYBODY!!!\n\nThen, check out the afte
 r party at Club Six.\nThere will be a ton of surprises, special guests
 !\n25 MCs & DJs, and the ultimate Turntablist battle\nKeep the Celebra
 tion going all night.\n\n\nPrice $10\nTime 9pm-2am\nMusic Hip-Hop\n\nF
 or more information visit https://trueskool.com/events/bang-the-drum-a
 fterparty
DTSTART;TZID=America/Los_Angeles:20090830T220000
DTEND;TZID=America/Los_Angeles:20090831T020000
CATEGORIES:hip, hop
LOCATION:Club Six, San Francisco, CA
WEBSITE:http://www.clubsix1.com
URL:http://www.clubsix1.com
CONTACT:415-531-6593
ORGANIZER:Angel
ATTACH;FMTTYPE="image/jpeg":http://storage.ning.com/topology/rest/1.0/
 file/get/2247860107?profile=original
ATTENDEE;ROLE=REQ-PARTICIPANT;PARTSTAT=ACCEPTED;RSVP=TRUE;CN=Cecily:ht
 tps://trueskool.com/profile/Cecily
END:VEVENT
END:VCALENDAR
