BEGIN:VCALENDAR
PRODID:NingEventWidget-v1
VERSION:2.0
METHOD:PUBLISH
BEGIN:VTIMEZONE
TZID:America/Los_Angeles
X-LIC-LOCATION:America/Los_Angeles
BEGIN:DAYLIGHT
TZOFFSETFROM:-0800
TZOFFSETTO:-0700
TZNAME:PDT
DTSTART:19700308T020000
RRULE:FREQ=YEARLY;BYMONTH=3;BYDAY=2SU
END:DAYLIGHT
BEGIN:STANDARD
TZOFFSETFROM:-0700
TZOFFSETTO:-0800
TZNAME:PST
DTSTART:19701101T020000
RRULE:FREQ=YEARLY;BYMONTH=11;BYDAY=1SU
END:STANDARD
END:VTIMEZONE
BEGIN:VEVENT
UID:1464587:Event:35649
DTSTAMP:20260420T223356Z
SUMMARY:Backstroke [2nd Saturdays] @ Azul Lounge, SF - Saturday, Augus
 t 8th, 2009
DESCRIPTION:Saturday, August 8th, 2009direct all guestlist names, bott
 le service inquiries, group discount requests, etc to: backstrokeSF@gm
 ail.com\n\n\n\n\nFor more information visit https://trueskool.com/even
 ts/backstroke-2nd-saturdays-azul
DTSTART;TZID=America/Los_Angeles:20090808T210000
DTEND;TZID=America/Los_Angeles:20090809T020000
CATEGORIES:club, hip, hop, dancehall, reggae, "r&b", old, school, funk
 , house, electro, "80's", "90's"
LOCATION:Azul Lounge
WEBSITE:http://www.azul-sf.com
URL:http://www.azul-sf.com
CONTACT:415-362-9750
ORGANIZER:The 3 Live Crew
ATTACH;FMTTYPE="image/jpeg":http://storage.ning.com/topology/rest/1.0/
 file/get/2247861483?profile=original
ATTENDEE;ROLE=REQ-PARTICIPANT;PARTSTAT=ACCEPTED;RSVP=TRUE;CN="DJ Chick
 en Skratch":https://trueskool.com/profile/DJChickenSkratch
END:VEVENT
END:VCALENDAR
