BEGIN:VCALENDAR
PRODID:NingEventWidget-v1
VERSION:2.0
METHOD:PUBLISH
BEGIN:VTIMEZONE
TZID:America/Los_Angeles
X-LIC-LOCATION:America/Los_Angeles
BEGIN:DAYLIGHT
TZOFFSETFROM:-0800
TZOFFSETTO:-0700
TZNAME:PDT
DTSTART:19700308T020000
RRULE:FREQ=YEARLY;BYMONTH=3;BYDAY=2SU
END:DAYLIGHT
BEGIN:STANDARD
TZOFFSETFROM:-0700
TZOFFSETTO:-0800
TZNAME:PST
DTSTART:19701101T020000
RRULE:FREQ=YEARLY;BYMONTH=11;BYDAY=1SU
END:STANDARD
END:VTIMEZONE
BEGIN:VEVENT
UID:1464587:Event:37147
DTSTAMP:20260420T231927Z
SUMMARY:Back to the Beat: 80's Funk, Soul and Boogie Beat Battle
DESCRIPTION:Producers/beatmakers go head to head for ca$h prize and cl
 othing flipping 80's funk, soul and boogie samples into beats includin
 g an acapella remix round. This is also a canned food drive for Glide 
 Memorial Foodbank so bring cans of food with you. Hosted by FLO and DJ
 'ed by phillipdrummond, for more info phillipdrummond@gmail.com and my
 space.com/phillipdrummond and for footage of past battles check:\nhttp
 ://www.youtube.com/view_play_list?p=12EFB45F864E1873\nand\nhttp://www.
 youtube.com/view_play_list?p=C3B6700EBEE1B371\n\nFor more information 
 visit https://trueskool.com/events/back-to-the-beat-80s-funk-soul
DTSTART;TZID=America/Los_Angeles:20090820T220000
DTEND;TZID=America/Los_Angeles:20090821T020000
CATEGORIES:hip, hop, beat, battle
LOCATION:Icon Ultra Lounge
WEBSITE:http://myspace.com/phillipdrummond
URL:http://myspace.com/phillipdrummond
CONTACT:
ORGANIZER;CN=phillipdrummond:https://trueskool.com/profile/phillipdrum
 mond
ATTACH;FMTTYPE="image/jpeg":http://storage.ning.com/topology/rest/1.0/
 file/get/2106896539?profile=original
ATTENDEE;ROLE=REQ-PARTICIPANT;PARTSTAT=ACCEPTED;RSVP=TRUE;CN=phillipdr
 ummond:https://trueskool.com/profile/phillipdrummond
END:VEVENT
END:VCALENDAR
