BEGIN:VCALENDAR
PRODID:NingEventWidget-v1
VERSION:2.0
METHOD:PUBLISH
BEGIN:VTIMEZONE
TZID:America/Los_Angeles
X-LIC-LOCATION:America/Los_Angeles
BEGIN:DAYLIGHT
TZOFFSETFROM:-0800
TZOFFSETTO:-0700
TZNAME:PDT
DTSTART:19700308T020000
RRULE:FREQ=YEARLY;BYMONTH=3;BYDAY=2SU
END:DAYLIGHT
BEGIN:STANDARD
TZOFFSETFROM:-0700
TZOFFSETTO:-0800
TZNAME:PST
DTSTART:19701101T020000
RRULE:FREQ=YEARLY;BYMONTH=11;BYDAY=1SU
END:STANDARD
END:VTIMEZONE
BEGIN:VEVENT
UID:1464587:Event:54317
DTSTAMP:20260421T032959Z
SUMMARY:Back To The Bay
DESCRIPTION:Welcome Eligh & Scarub (Living Legends) Back to the Bay al
 ong with XienHow (Fresh off of his Asia Tour) and E.T.C. who will be p
 erforming songs from his new album \"Existence Turmoil Creation\" with
  a special guest appearance from LivenFire artist Canibal Lecture...ho
 sted by The Host with the Most Flossafee and Dj Lex aka Lex Level. Thi
 s night is sure an event to be at as it will be an occasion not to be 
 missed.\n\nPresented by LivenFire Records\n\nPRESALES TIX AVAILABLE HE
 RE\n\nhttp://www.inticketing.com/events/89522\n\nFor more information 
 visit https://trueskool.com/events/back-to-the-bay-1
DTSTART;TZID=America/Los_Angeles:20100423T220000
DTEND;TZID=America/Los_Angeles:20100424T020000
CATEGORIES:hip, hop
LOCATION:Rockit Room - SF, CA
WEBSITE:http://www.rock-it-room.com
URL:http://www.rock-it-room.com
CONTACT:
ORGANIZER;CN=XienHow:https://trueskool.com/profile/XienHow
ATTACH;FMTTYPE="image/jpeg":http://storage.ning.com/topology/rest/1.0/
 file/get/2247876775?profile=original
ATTENDEE;ROLE=REQ-PARTICIPANT;PARTSTAT=ACCEPTED;RSVP=TRUE;CN=XienHow:h
 ttps://trueskool.com/profile/XienHow
END:VEVENT
END:VCALENDAR
