BEGIN:VCALENDAR
PRODID:NingEventWidget-v1
VERSION:2.0
METHOD:PUBLISH
BEGIN:VTIMEZONE
TZID:America/Los_Angeles
X-LIC-LOCATION:America/Los_Angeles
BEGIN:DAYLIGHT
TZOFFSETFROM:-0800
TZOFFSETTO:-0700
TZNAME:PDT
DTSTART:19700308T020000
RRULE:FREQ=YEARLY;BYMONTH=3;BYDAY=2SU
END:DAYLIGHT
BEGIN:STANDARD
TZOFFSETFROM:-0700
TZOFFSETTO:-0800
TZNAME:PST
DTSTART:19701101T020000
RRULE:FREQ=YEARLY;BYMONTH=11;BYDAY=1SU
END:STANDARD
END:VTIMEZONE
BEGIN:VEVENT
UID:1464587:Event:68449
DTSTAMP:20260420T145647Z
SUMMARY:Audiopharmacy w/ La Alternativa presents: \"Mictecacihuatl\" -
  Queen of the Dead (a Hallow's Eve Celebration)
DESCRIPTION:AudiopharmacySF Art Collective w/ La Alternativa presents:
 \n\n\"Mictecacihuatl\" - Queen of the Dead\nA Dia de los Muertos / Hal
 low's Eve Celebration\n\nWHERE: KUNST-STOFF Arts 927 Market Street @ 5
 th Street, San Francisco\n\nWHEN: October 30th, 2010 9pm-2:00am\n\nCOS
 T: $13\n\nLIVE PERFORMANCES: Audiopharmacy (feat. members of Panthelio
 n / world hip hop /\ndub), Dr.Oop (l.a.-hip hop), Strictly Albert (zen
  drum), La Alternativa (dance).\n\nDJ'S with live percussion spinning 
 Hip Hop / Reggae / Funk / Soul / World Beat / Latin :\nDj Werd (Berlin
 ), Stepwise (SF/Argentina), Teao n Offerings (SF)\n\nLIVE ACRYLIC: Dee
 Jae Paeste, Niceone, Jaiv1, Deth Brain\n\nOTHER DETAILS:\n- Costume co
 ntest with $50 cash prize!\n- Photography open photo session.\n- Pleas
 e bring something for the altar in paying homage to our loved ones who
  have passed.\n\nAUDIOPHARMACY (San Francisco):\nwww.audiopharmacy.com
 \nwww.audiopharmacy.blogspot.com\n\n\"Twisting a seamless fusion of ro
 ots hip-hop, reggae, dub, and world fusion in to a\nnatural mold, whic
 h speaks to your soul while making you move.\" -Wax Poetics\n\nVIDEO U
 RL:\nAUDIOPHARMACY VIDEOS: http://audiopharmacy.com/videos.html\n\nAUD
 IOPHARMACY PHOTOS - EURO TOUR 2010 and\nmore:\nhttp://www.flickr.com/p
 hotos/21113748@N07/sets/\n\nFor more information visit https://truesko
 ol.com/events/audiopharmacy-w-la-alternativa
DTSTART;TZID=America/Los_Angeles:20101030T220000
DTEND;TZID=America/Los_Angeles:20101031T020000
CATEGORIES:san, francisco, ca
LOCATION:KUNST-STOFF Arts, San Francisco, CA
WEBSITE:http://www.audiopharmacy.com
URL:http://www.audiopharmacy.com
CONTACT:
ORGANIZER;CN=Audiopharmacy:https://trueskool.com/profile/Audiopharmacy
ATTACH;FMTTYPE="image/jpeg":http://storage.ning.com/topology/rest/1.0/
 file/get/2247885381?profile=original
ATTENDEE;ROLE=REQ-PARTICIPANT;PARTSTAT=ACCEPTED;RSVP=TRUE;CN=Audiophar
 macy:https://trueskool.com/profile/Audiopharmacy
END:VEVENT
END:VCALENDAR
