BEGIN:VCALENDAR
PRODID:NingEventWidget-v1
VERSION:2.0
METHOD:PUBLISH
BEGIN:VTIMEZONE
TZID:America/Los_Angeles
X-LIC-LOCATION:America/Los_Angeles
BEGIN:DAYLIGHT
TZOFFSETFROM:-0800
TZOFFSETTO:-0700
TZNAME:PDT
DTSTART:19700308T020000
RRULE:FREQ=YEARLY;BYMONTH=3;BYDAY=2SU
END:DAYLIGHT
BEGIN:STANDARD
TZOFFSETFROM:-0700
TZOFFSETTO:-0800
TZNAME:PST
DTSTART:19701101T020000
RRULE:FREQ=YEARLY;BYMONTH=11;BYDAY=1SU
END:STANDARD
END:VTIMEZONE
BEGIN:VEVENT
UID:1464587:Event:386973
DTSTAMP:20260419T132150Z
SUMMARY:ATTRACTION Day Party/Variety Show/Industry Mixer
DESCRIPTION:ATTRACTION.. The Bay Area's Biggest Monthly Day Party and 
 Variety Show Event.  Featuring.  DJ D-Sharp (Golden State Warriors)  D
 J Jerry Ross (Sundays on the Bay in Tiburon)  DJ Just Rocwell (LMC & C
 o.)  DJ Swang (Allattractive)  Comedy by Chris Riggins (The Talent Sho
 w x Ankh Marketing)  Live sets by:  Erk the Jerk & Dom Jones (WingSpan
 )  Summer Line Release and Anniversary Party for LMC & Co. Clothing.  
 http://lmcandco.bigcartel.com/  All happening in Downtown Oakland's Pr
 imere Venue, Era Art Bar & Lounge   http://www.oaklandera.com/  $10 -
  $5 with Allattractive or LMC & Co. Wearing Tee/Gear!\n\nFor more 
 information visit https://trueskool.com/events/attraction-day-party-va
 riety-show-industry-mixer
DTSTART;TZID=America/Los_Angeles:20140727T123000
DTEND;TZID=America/Los_Angeles:20140727T193000
CATEGORIES:allattractive, all, attractive, attraction, era, day, party
 , music, dance, art, djs
LOCATION:Era Art Bar & Lounge
WEBSITE:https://www.facebook.com/events/1627886930769650/
URL:https://www.facebook.com/events/1627886930769650/
CONTACT:
ORGANIZER;CN=ALLATTRACTIVE1:https://trueskool.com/profile/AllSoul
ATTACH;FMTTYPE="image/jpeg":http://storage.ning.com/topology/rest/1.0/
 file/get/2068665215?profile=original
ATTENDEE;ROLE=REQ-PARTICIPANT;PARTSTAT=ACCEPTED;RSVP=TRUE;CN=ALLATTRAC
 TIVE1:https://trueskool.com/profile/AllSoul
END:VEVENT
END:VCALENDAR
