BEGIN:VCALENDAR
PRODID:NingEventWidget-v1
VERSION:2.0
METHOD:PUBLISH
BEGIN:VTIMEZONE
TZID:America/Los_Angeles
X-LIC-LOCATION:America/Los_Angeles
BEGIN:DAYLIGHT
TZOFFSETFROM:-0800
TZOFFSETTO:-0700
TZNAME:PDT
DTSTART:19700308T020000
RRULE:FREQ=YEARLY;BYMONTH=3;BYDAY=2SU
END:DAYLIGHT
BEGIN:STANDARD
TZOFFSETFROM:-0700
TZOFFSETTO:-0800
TZNAME:PST
DTSTART:19701101T020000
RRULE:FREQ=YEARLY;BYMONTH=11;BYDAY=1SU
END:STANDARD
END:VTIMEZONE
BEGIN:VEVENT
UID:1464587:Event:840399
DTSTAMP:20260419T194116Z
SUMMARY:Atmosphere with Sage Francis, R.A. The Rugged Man, Kool Keith,
  Mr. Dibbs
DESCRIPTION:ENTER TO WIN A PAIR OF TICKETS. WINNER WILL BE DRAWN RANDO
 MLY AND ANNOUNCED 2 DAYS PRIOR TO EVENT. \r\n\r\n Friday, February 13
 , 2026 Winter Carnival Tour 2026 Atmosphere Sage Francis R.A. The Rugg
 ed Man Kool Keith Mr. Dibbs\r\nFox Theater Oakland, CA Doors: 6:30pm |
  Show: 7:30pm >> BUY TICKETS\r\n\r\n\r\n  \n\nFor more information vis
 it https://trueskool.com/events/atmosphere-with-sage-francis-r-a-the-r
 ugged-man-kool-keith-mr-dib
DTSTART;TZID=America/Los_Angeles:20260213T183000
DTEND;TZID=America/Los_Angeles:20260213T230000
CATEGORIES:"bay area", oakland
LOCATION:Fox Theater, Oakland
WEBSITE:https://www.ticketmaster.com/atmosphere-winter-carnival-tour-2
 026-oakland-california-02-13-2026/event/1C00634FB04D9C29?camefrom=CFC_
 ANOTHERPLANET_TRUESKOOL&amp;amp;brand=anotherplanet
URL:https://www.ticketmaster.com/atmosphere-winter-carnival-tour-2026-
 oakland-california-02-13-2026/event/1C00634FB04D9C29?camefrom=CFC_ANOT
 HERPLANET_TRUESKOOL&amp;amp;brand=anotherplanet
CONTACT:
ORGANIZER:Another Planet Entertainment
ATTACH;FMTTYPE="image/jpeg":https://storage.ning.com/topology/rest/1.0
 /file/get/13749493659?profile=original
ATTENDEE;ROLE=REQ-PARTICIPANT;PARTSTAT=ACCEPTED;RSVP=TRUE;CN="Donte Ha
 rrison":https://trueskool.com/profile/DonteHarrison
ATTENDEE;ROLE=REQ-PARTICIPANT;PARTSTAT=ACCEPTED;RSVP=TRUE;CN="Editor's
  Pick":https://trueskool.com/profile/RentheVinylArchaeologist
END:VEVENT
END:VCALENDAR
