BEGIN:VCALENDAR
PRODID:NingEventWidget-v1
VERSION:2.0
METHOD:PUBLISH
BEGIN:VTIMEZONE
TZID:America/Los_Angeles
X-LIC-LOCATION:America/Los_Angeles
BEGIN:DAYLIGHT
TZOFFSETFROM:-0800
TZOFFSETTO:-0700
TZNAME:PDT
DTSTART:19700308T020000
RRULE:FREQ=YEARLY;BYMONTH=3;BYDAY=2SU
END:DAYLIGHT
BEGIN:STANDARD
TZOFFSETFROM:-0700
TZOFFSETTO:-0800
TZNAME:PST
DTSTART:19701101T020000
RRULE:FREQ=YEARLY;BYMONTH=11;BYDAY=1SU
END:STANDARD
END:VTIMEZONE
BEGIN:VEVENT
UID:1464587:Event:312331
DTSTAMP:20260421T023321Z
SUMMARY:As You Like It w/ Martyn LIVE, Midland B2B Paul Woolford and m
 ore, March 14, 2014.
DESCRIPTION:Martyn (live) (3024)Paul Woolford aka Special Request B2B 
 Midland (Hotflush Recordings / Planet E / Soul Music | UK) (Aus Music
  / Graded | UK)Ghosts On Tape (Icee Hot)Bells & Whistles (As You Like 
 It / Four Sweaters)Side B2BKenneth Scott (Bad Animal / Circus Company 
 / Vakant | Berlin/SF)Phillip Stone (Smart Bar | CHI)Sassmouth (As You 
 Like It / NBFC / God Particle | SF/CHI)Rich Korach (As You Like It)As 
 You Like It (AYLI) is the result of a shared taste for quality electro
 nic music, late nights and experiences that focus on cutting-edge soun
 ds by today’s most driven artists, while striving for and acknowledg
 ing timelessness.\n\nFor more information visit https://trueskool.com/
 events/as-you-like-it-w-martyn-live-midland-b2b-paul-woolford-and-more
DTSTART;TZID=America/Los_Angeles:20140314T210000
DTEND;TZID=America/Los_Angeles:20140315T030000
CATEGORIES:san, francisco, california
LOCATION:San Francisco, CA
WEBSITE:http://www.residentadvisor.net/event.aspx?555018
URL:http://www.residentadvisor.net/event.aspx?555018
CONTACT:
ORGANIZER:Mighty
ATTACH;FMTTYPE="image/jpeg":http://storage.ning.com/topology/rest/1.0/
 file/get/2247956525?profile=original
ATTENDEE;ROLE=REQ-PARTICIPANT;PARTSTAT=ACCEPTED;RSVP=TRUE;CN="Alexandr
 a Alden":https://trueskool.com/profile/AlexandraAlden
END:VEVENT
END:VCALENDAR
