BEGIN:VCALENDAR
PRODID:NingEventWidget-v1
VERSION:2.0
METHOD:PUBLISH
BEGIN:VTIMEZONE
TZID:America/Los_Angeles
X-LIC-LOCATION:America/Los_Angeles
BEGIN:DAYLIGHT
TZOFFSETFROM:-0800
TZOFFSETTO:-0700
TZNAME:PDT
DTSTART:19700308T020000
RRULE:FREQ=YEARLY;BYMONTH=3;BYDAY=2SU
END:DAYLIGHT
BEGIN:STANDARD
TZOFFSETFROM:-0700
TZOFFSETTO:-0800
TZNAME:PST
DTSTART:19701101T020000
RRULE:FREQ=YEARLY;BYMONTH=11;BYDAY=1SU
END:STANDARD
END:VTIMEZONE
BEGIN:VEVENT
UID:1464587:Event:29941
DTSTAMP:20260420T214304Z
SUMMARY:ARTNOWSF Presents Suite Jesus, MAY 22nd
DESCRIPTION:ARTNOWSF Presents Suite Jesus, MAY 22nd\n111 Minna Gallery
 \nPerforming LIVE:\nRoom 1: The Gaslamp Killer, Mochipet\nRoom 2: J-Bo
 ogie's, Dubtronic Science, DJ Satva\nShowing Photography by: One Eye, 
 Chrissy Lynn, Mei Li, Matt Davidson, Sarah Fredericks, Liz Caruana, Sa
 m Valensky\nReception 9pm-11pm, Party 11pm-2am.\nTickets & info @ goin
 g.com/maysj\nwww.myspace.com/artnow\n\nFor more information visit http
 s://trueskool.com/events/artnowsf-presents-suite-jesus-3
DTSTART;TZID=America/Los_Angeles:20090522T210000
DTEND;TZID=America/Los_Angeles:20090523T020000
CATEGORIES:art, turntablism
LOCATION:111 Minna Gallery
WEBSITE:http://going.com/maysj
URL:http://going.com/maysj
CONTACT:
ORGANIZER;CN=ARTNOW:https://trueskool.com/profile/ARTNOW
ATTACH;FMTTYPE="image/jpeg":http://storage.ning.com/topology/rest/1.0/
 file/get/2247855518?profile=original
ATTENDEE;ROLE=REQ-PARTICIPANT;PARTSTAT=ACCEPTED;RSVP=TRUE;CN=ARTNOW:ht
 tps://trueskool.com/profile/ARTNOW
END:VEVENT
END:VCALENDAR
