BEGIN:VCALENDAR
PRODID:NingEventWidget-v1
VERSION:2.0
METHOD:PUBLISH
BEGIN:VTIMEZONE
TZID:America/Los_Angeles
X-LIC-LOCATION:America/Los_Angeles
BEGIN:DAYLIGHT
TZOFFSETFROM:-0800
TZOFFSETTO:-0700
TZNAME:PDT
DTSTART:19700308T020000
RRULE:FREQ=YEARLY;BYMONTH=3;BYDAY=2SU
END:DAYLIGHT
BEGIN:STANDARD
TZOFFSETFROM:-0700
TZOFFSETTO:-0800
TZNAME:PST
DTSTART:19701101T020000
RRULE:FREQ=YEARLY;BYMONTH=11;BYDAY=1SU
END:STANDARD
END:VTIMEZONE
BEGIN:VEVENT
UID:1464587:Event:29937
DTSTAMP:20260420T200040Z
SUMMARY:ARTNOWSF Presents Suite Jesus, APRIL 24th
DESCRIPTION:ARTNOWSF Presents Suite Jesus, APRIL 24th\n111 Minna Galle
 ry\nPerforming LIVE:\nRoom 1:Klever, DJ Craze, Rootz, KAP10, Morale, S
 hane King\nRoom 2: Chezidek, Winstrong, Rebs, Daneekah & Green B (Coo-
 yah)\nShowing Art and Painting Live: Sode, Supher, Grave, Durock, Wake
 , Soner, Sloke, Enks, Spain, Mez, Brok, Weah, Beckit, News, DMise, Siz
 e21, Gonzo, Krutch\nArt Reception 5pm-11pm, Party 11pm-2am\n$10 Presal
 e/$15 b4 1030/$20\nTickets & info @ going.com/aprsj\nwww.myspace.com/a
 rtnow\n\nFor more information visit https://trueskool.com/events/artno
 wsf-presents-suite-jesus-2
DTSTART;TZID=America/Los_Angeles:20090424T210000
DTEND;TZID=America/Los_Angeles:20090425T020000
CATEGORIES:live, art, music, dubstep, hiphop
LOCATION:111 Minna Gallery
WEBSITE:http://gong.com/aprsj
URL:http://gong.com/aprsj
CONTACT:
ORGANIZER;CN=ARTNOW:https://trueskool.com/profile/ARTNOW
ATTACH;FMTTYPE="image/jpeg":http://storage.ning.com/topology/rest/1.0/
 file/get/2247855583?profile=original
ATTENDEE;ROLE=REQ-PARTICIPANT;PARTSTAT=ACCEPTED;RSVP=TRUE;CN=ARTNOW:ht
 tps://trueskool.com/profile/ARTNOW
ATTENDEE;ROLE=REQ-PARTICIPANT;PARTSTAT=TENTATIVE;RSVP=TRUE;CN=Chris:ht
 tps://trueskool.com/profile/Chris
END:VEVENT
END:VCALENDAR
