BEGIN:VCALENDAR
PRODID:NingEventWidget-v1
VERSION:2.0
METHOD:PUBLISH
BEGIN:VTIMEZONE
TZID:America/Los_Angeles
X-LIC-LOCATION:America/Los_Angeles
BEGIN:DAYLIGHT
TZOFFSETFROM:-0800
TZOFFSETTO:-0700
TZNAME:PDT
DTSTART:19700308T020000
RRULE:FREQ=YEARLY;BYMONTH=3;BYDAY=2SU
END:DAYLIGHT
BEGIN:STANDARD
TZOFFSETFROM:-0700
TZOFFSETTO:-0800
TZNAME:PST
DTSTART:19701101T020000
RRULE:FREQ=YEARLY;BYMONTH=11;BYDAY=1SU
END:STANDARD
END:VTIMEZONE
BEGIN:VEVENT
UID:1464587:Event:61884
DTSTAMP:20260421T102546Z
SUMMARY:ART OF HUSTLE workshop: Concrete Education for the Independent
  Artist and Creative Entrepreneur
DESCRIPTION:Saturday, June 24 | 10am-2pm\nTHE ART OF HUSTLE\nConcrete 
 education for the independent artist and creative entrepreneur... Ever
 yone else is sleeping\n\nPre-registration is required: http://kearnyst
 reet.org/2010/06/art-of-the-hustle/\n\nVideo: http://www.youtube.com/w
 atch?v=rG3E1KkMpkU&feature=player_embedded\n\nBUILD YA SKILLS\nMany ar
 tists still think they’ll be “discovered” so they don’t bother
  learning fundamental (yes, fundamental, not elective) skills necessar
 y for their own advancement. When an artist doesn’t have the support
  of a major institution (which is most of us, most of the time), you c
 an still make moves! Take charge. Now. This is a class on:\n*CREATING 
 your artist statement, resume, press release, media kit\n*STRATEGIZING
  and PROFESSIONALIZING your process to get your work seen\n\nMONEY BAC
 K GUARANTEE\n“I stand entirely behind my work and my coaching. This 
 is a four-hour workshop. After the first hour of training, we will tak
 e a break. And at this point, I will give you 100% of your money back,
  no-questions-asked and no-hard-feelings, if you honestly do not feel 
 that the education being provided will contribute to helping you artic
 ulate your vision, making your work more visible, and empowering you w
 ith career tactics and new modes of seeing. If you don’t benefit fro
 m this workshop, I don’t deserve to keep your money. And you have ev
 ery right to receive — and I have every responsibility to give you 
  a full and prompt refund. That’s my word.” — Anthem Salgado\n
 \nWORD ON THE STREET\n“Art of Hustle is made for the novice and expe
 rienced performer/artist. I personally had a great experience and lear
 ned quite a lot and made some very good contacts.” – Michael Green
 e, photographer\n\n“Anthem is an enthusiastic and driven educator wh
 o spreads positivity and practical information through his teachings.
  — Arianna Gouveia, multidisciplinary artist\n\n“Basic tools any
  independent artist needs to promote their work more effectively.” 
  Cheryl Samson, poet\n\n“I learned a lot. I got exactly what I cam
 e for. Tons of great advice.” — Marie ‘Pandora’ Medina, dancer
 \n\n\"Anthem's classes and coaching are worth every penny and peso.\" 
 -Meldy Hernandez, writer/actor\n\nFor more information visit https://t
 rueskool.com/events/art-of-hustle-workshop
DTSTART;TZID=America/Los_Angeles:20100724T100000
DTEND;TZID=America/Los_Angeles:20100724T140000
CATEGORIES:education
LOCATION:Kearny Street Workshop, San Francisco, California
WEBSITE:http://kearnystreet.org/2010/06/art-of-the-hustle/
URL:http://kearnystreet.org/2010/06/art-of-the-hustle/
CONTACT:415.503.0520
ORGANIZER:Kearny Street Workshop
ATTACH;FMTTYPE="image/jpeg":http://storage.ning.com/topology/rest/1.0/
 file/get/2247882128?profile=original
ATTENDEE;ROLE=REQ-PARTICIPANT;PARTSTAT=ACCEPTED;RSVP=TRUE;CN="Regular 
 Everyday Normal Guy":https://trueskool.com/profile/RegularEverydayNorm
 alGuy
END:VEVENT
END:VCALENDAR
