BEGIN:VCALENDAR
PRODID:NingEventWidget-v1
VERSION:2.0
METHOD:PUBLISH
BEGIN:VTIMEZONE
TZID:America/Los_Angeles
X-LIC-LOCATION:America/Los_Angeles
BEGIN:DAYLIGHT
TZOFFSETFROM:-0800
TZOFFSETTO:-0700
TZNAME:PDT
DTSTART:19700308T020000
RRULE:FREQ=YEARLY;BYMONTH=3;BYDAY=2SU
END:DAYLIGHT
BEGIN:STANDARD
TZOFFSETFROM:-0700
TZOFFSETTO:-0800
TZNAME:PST
DTSTART:19701101T020000
RRULE:FREQ=YEARLY;BYMONTH=11;BYDAY=1SU
END:STANDARD
END:VTIMEZONE
BEGIN:VEVENT
UID:1464587:Event:69599
DTSTAMP:20260420T144712Z
SUMMARY:Art of Hip Hop
DESCRIPTION:\nSATURDAY, NOV 6\nAssociated Students/Cal State East Bay 
 present\nThe Art of Hip Hop\n\nB-boying\nfeat. B-boy battles and Hip H
 op Dance\n\nGraffiti\nfeat. Los & Vogue\n\nDJing\nfeat. Ren the Vinyl 
 Archaeologist\n\nEmceeing\nfeat. Jahi & live band\nKnowledge\n\"The Ar
 t of Emceeing\" 12pm-1pm, Room 311, UU\n\n@ New University Union\nCal 
 State University, East Bay\n25800 Carlos Bee Blvd.\nHayward, CA\nFree 
 Lunch, Free Event\n12pm-3pm\n\nFor more information visit https://true
 skool.com/events/art-of-hip-hop
DTSTART;TZID=America/Los_Angeles:20101106T120000
DTEND;TZID=America/Los_Angeles:20101106T150000
CATEGORIES:hayward, ca
LOCATION:Cal State University, East Bay (New University Union), Haywar
 d, CA
WEBSITE:
URL:
CONTACT:
ORGANIZER:Associated Students/Cal State East Bay
ATTACH;FMTTYPE="image/jpeg":http://storage.ning.com/topology/rest/1.0/
 file/get/2247885712?profile=original
ATTENDEE;ROLE=REQ-PARTICIPANT;PARTSTAT=ACCEPTED;RSVP=TRUE;CN="Ren the 
 Vinyl Archaeologist":https://trueskool.com/profile/xh51jvilojur
END:VEVENT
END:VCALENDAR
