BEGIN:VCALENDAR
PRODID:NingEventWidget-v1
VERSION:2.0
METHOD:PUBLISH
BEGIN:VTIMEZONE
TZID:America/Los_Angeles
X-LIC-LOCATION:America/Los_Angeles
BEGIN:DAYLIGHT
TZOFFSETFROM:-0800
TZOFFSETTO:-0700
TZNAME:PDT
DTSTART:19700308T020000
RRULE:FREQ=YEARLY;BYMONTH=3;BYDAY=2SU
END:DAYLIGHT
BEGIN:STANDARD
TZOFFSETFROM:-0700
TZOFFSETTO:-0800
TZNAME:PST
DTSTART:19701101T020000
RRULE:FREQ=YEARLY;BYMONTH=11;BYDAY=1SU
END:STANDARD
END:VTIMEZONE
BEGIN:VEVENT
UID:1464587:Event:824471
DTSTAMP:20260421T110729Z
SUMMARY:Art Battle San Francisco
DESCRIPTION:Art Battle San Francisco\r\nDecember 13 · 8pm - December 
 14 · 12am PST. Doors at 7pm\r\nThe Great Northern 119 Utah St  San Fr
 ancisco, CA 94103\n\nFor more information visit https://trueskool.com/
 events/art-battle-san-francisco-1
DTSTART;TZID=America/Los_Angeles:20231213T200000
DTEND;TZID=America/Los_Angeles:20231214T000000
CATEGORIES:"bay area", oakland, "san francisco", "san jose", berkeley
LOCATION:The Great Northern, SF
WEBSITE:https://www.eventbrite.com/e/art-battle-san-francisco-december
 -13-2023-tickets-699714834907?_gl=1*p4a3ha*_up*MQ..*_ga*OTMxNjMzNjk3Lj
 E2OTk0NjgyOTE.*_ga_TQVES5V6SH*MTY5OTQ2ODI5MC4xLjAuMTY5OTQ2ODI5MC4wLjAu
 MA..
URL:https://www.eventbrite.com/e/art-battle-san-francisco-december-13-
 2023-tickets-699714834907?_gl=1*p4a3ha*_up*MQ..*_ga*OTMxNjMzNjk3LjE2OT
 k0NjgyOTE.*_ga_TQVES5V6SH*MTY5OTQ2ODI5MC4xLjAuMTY5OTQ2ODI5MC4wLjAuMA..
CONTACT:
ORGANIZER;CN="Editor's Pick":https://trueskool.com/profile/RentheVinyl
 Archaeologist
ATTACH;FMTTYPE="image/jpeg":https://storage.ning.com/topology/rest/1.0
 /file/get/12288176680?profile=original
ATTENDEE;ROLE=REQ-PARTICIPANT;PARTSTAT=ACCEPTED;RSVP=TRUE;CN="Editor's
  Pick":https://trueskool.com/profile/RentheVinylArchaeologist
END:VEVENT
END:VCALENDAR
