BEGIN:VCALENDAR
PRODID:NingEventWidget-v1
VERSION:2.0
METHOD:PUBLISH
BEGIN:VTIMEZONE
TZID:America/Los_Angeles
X-LIC-LOCATION:America/Los_Angeles
BEGIN:DAYLIGHT
TZOFFSETFROM:-0800
TZOFFSETTO:-0700
TZNAME:PDT
DTSTART:19700308T020000
RRULE:FREQ=YEARLY;BYMONTH=3;BYDAY=2SU
END:DAYLIGHT
BEGIN:STANDARD
TZOFFSETFROM:-0700
TZOFFSETTO:-0800
TZNAME:PST
DTSTART:19701101T020000
RRULE:FREQ=YEARLY;BYMONTH=11;BYDAY=1SU
END:STANDARD
END:VTIMEZONE
BEGIN:VEVENT
UID:1464587:Event:662635
DTSTAMP:20260421T205937Z
SUMMARY:Arrested Development (CANCELLED)
DESCRIPTION: \r\n\r\nSat, September 23, 2017\r\nArrested Development (
 CANCELLED)\r\n\r\nThe UC Theatre Doors: 7:00 pm / Show: 8:00 pm $35.00
 \r\n>> BUY TICKETS\r\n\n\nFor more information visit https://trueskool
 .com/events/arrested-development
DTSTART;TZID=America/Los_Angeles:20170923T200000
DTEND;TZID=America/Los_Angeles:20170923T230000
CATEGORIES:"san francisco", oakland, berkley, "san jose", "bay area"
LOCATION:UC Theatre, Berkeley
WEBSITE:https://www.ticketfly.com/purchase/event/1486963?__utmx=-&amp;
 amp;__utmv=-&amp;amp;__utmk=158577594&amp;amp;__utmz=1.1494019666.1.1.
 utmgclid%3DCLaX0vvY2dMCFQbjGwodSJsIAA%7Cutmccn%3D%28not+set%29%7Cutmcm
 d%3D%28not+set%29%7Cut
URL:https://www.ticketfly.com/purchase/event/1486963?__utmx=-&amp;amp;
 __utmv=-&amp;amp;__utmk=158577594&amp;amp;__utmz=1.1494019666.1.1.utmg
 clid%3DCLaX0vvY2dMCFQbjGwodSJsIAA%7Cutmccn%3D%28not+set%29%7Cutmcmd%3D
 %28not+set%29%7Cut
CONTACT:
ORGANIZER;CN="Editor's Pick":https://trueskool.com/profile/RentheVinyl
 Archaeologist
ATTACH;FMTTYPE="image/jpeg":http://storage.ning.com/topology/rest/1.0/
 file/get/2248001236?profile=original
ATTENDEE;ROLE=REQ-PARTICIPANT;PARTSTAT=ACCEPTED;RSVP=TRUE;CN="Editor's
  Pick":https://trueskool.com/profile/RentheVinylArchaeologist
ATTENDEE;ROLE=REQ-PARTICIPANT;PARTSTAT=ACCEPTED;RSVP=TRUE;CN="Elisa Bj
 eldanes":https://trueskool.com/profile/ElisaBjeldanes
END:VEVENT
END:VCALENDAR
