BEGIN:VCALENDAR
PRODID:NingEventWidget-v1
VERSION:2.0
METHOD:PUBLISH
BEGIN:VTIMEZONE
TZID:America/Los_Angeles
X-LIC-LOCATION:America/Los_Angeles
BEGIN:DAYLIGHT
TZOFFSETFROM:-0800
TZOFFSETTO:-0700
TZNAME:PDT
DTSTART:19700308T020000
RRULE:FREQ=YEARLY;BYMONTH=3;BYDAY=2SU
END:DAYLIGHT
BEGIN:STANDARD
TZOFFSETFROM:-0700
TZOFFSETTO:-0800
TZNAME:PST
DTSTART:19701101T020000
RRULE:FREQ=YEARLY;BYMONTH=11;BYDAY=1SU
END:STANDARD
END:VTIMEZONE
BEGIN:VEVENT
UID:1464587:Event:70699
DTSTAMP:20260420T131223Z
SUMMARY:ARI WHY Listening Party for \"proof of giants\"
DESCRIPTION:Alchemetric Productions Presents...\n\n\nA Listening Party
  and Special Remix ARI WHY DJ set !!!\n\nNOV 20th 2010\n8-10pm\n\n@\n\
 nShowdown\n10 6th st.\nsf\n415.503.0684\nshowdownsf.com\nalchemetric.c
 om\nariwhy.com\n\nFREE\nhttp://www.youtube.com/watch?v=bjUz59LopG4\n\n
 For more information visit https://trueskool.com/events/ari-why-listen
 ing-party-for
DTSTART;TZID=America/Los_Angeles:20101120T200000
DTEND;TZID=America/Los_Angeles:20101120T220000
CATEGORIES:san, francisco
LOCATION:Showdown, San Francisco CA
WEBSITE:http://showdownsf.com
URL:http://showdownsf.com
CONTACT:
ORGANIZER;CN=Alchemetric:https://trueskool.com/profile/Alchemetric
ATTACH;FMTTYPE="image/jpeg":
ATTENDEE;ROLE=REQ-PARTICIPANT;PARTSTAT=ACCEPTED;RSVP=TRUE;CN=Alchemetr
 ic:https://trueskool.com/profile/Alchemetric
END:VEVENT
END:VCALENDAR
