BEGIN:VCALENDAR
PRODID:NingEventWidget-v1
VERSION:2.0
METHOD:PUBLISH
BEGIN:VTIMEZONE
TZID:America/Los_Angeles
X-LIC-LOCATION:America/Los_Angeles
BEGIN:DAYLIGHT
TZOFFSETFROM:-0800
TZOFFSETTO:-0700
TZNAME:PDT
DTSTART:19700308T020000
RRULE:FREQ=YEARLY;BYMONTH=3;BYDAY=2SU
END:DAYLIGHT
BEGIN:STANDARD
TZOFFSETFROM:-0700
TZOFFSETTO:-0800
TZNAME:PST
DTSTART:19701101T020000
RRULE:FREQ=YEARLY;BYMONTH=11;BYDAY=1SU
END:STANDARD
END:VTIMEZONE
BEGIN:VEVENT
UID:1464587:Event:842311
DTSTAMP:20260421T050554Z
SUMMARY:Ari Lennox
DESCRIPTION:Ari Lennox\r\nThu • Apr 16, 2026 • 8:00 PM\r\nThe Maso
 nic 1111 California St. San Francisco, CA\n\nFor more information visi
 t https://trueskool.com/events/ari-lennox
DTSTART;TZID=America/Los_Angeles:20260416T200000
DTEND;TZID=America/Los_Angeles:20260416T230000
CATEGORIES:"bay area", oakland, "san francisco", "san jose", berkeley
LOCATION:The Masonic, SF
WEBSITE:https://www.ticketmaster.com/ari-lennox-the-vacancy-tour-san-f
 rancisco-california-04-16-2026/event/1C00643DA802D63B?_gl=1*p215kl*_ga
 *MjYwNDU0MzE5LjE3NTAzMzM4MDM.*_ga_C1T806G4DF*czE3NzExMDcxMTckbzMkZzEkd
 DE3NzExMDcxNDMkajM0JGwwJGgw
URL:https://www.ticketmaster.com/ari-lennox-the-vacancy-tour-san-franc
 isco-california-04-16-2026/event/1C00643DA802D63B?_gl=1*p215kl*_ga*MjY
 wNDU0MzE5LjE3NTAzMzM4MDM.*_ga_C1T806G4DF*czE3NzExMDcxMTckbzMkZzEkdDE3N
 zExMDcxNDMkajM0JGwwJGgw
CONTACT:
ORGANIZER;CN="Editor's Pick":https://trueskool.com/profile/RentheVinyl
 Archaeologist
ATTACH;FMTTYPE="image/jpeg":https://storage.ning.com/topology/rest/1.0
 /file/get/31086324078?profile=original
ATTENDEE;ROLE=REQ-PARTICIPANT;PARTSTAT=ACCEPTED;RSVP=TRUE;CN="Editor's
  Pick":https://trueskool.com/profile/RentheVinylArchaeologist
END:VEVENT
END:VCALENDAR
