BEGIN:VCALENDAR
PRODID:NingEventWidget-v1
VERSION:2.0
METHOD:PUBLISH
BEGIN:VTIMEZONE
TZID:America/Los_Angeles
X-LIC-LOCATION:America/Los_Angeles
BEGIN:DAYLIGHT
TZOFFSETFROM:-0800
TZOFFSETTO:-0700
TZNAME:PDT
DTSTART:19700308T020000
RRULE:FREQ=YEARLY;BYMONTH=3;BYDAY=2SU
END:DAYLIGHT
BEGIN:STANDARD
TZOFFSETFROM:-0700
TZOFFSETTO:-0800
TZNAME:PST
DTSTART:19701101T020000
RRULE:FREQ=YEARLY;BYMONTH=11;BYDAY=1SU
END:STANDARD
END:VTIMEZONE
BEGIN:VEVENT
UID:1464587:Event:50056
DTSTAMP:20260421T172332Z
SUMMARY:Area Codes: The Bay's Regional Hip Hop Monthly
DESCRIPTION:Come join us for the second round of our new monthly party
  where we celebrate the distinct regional cultures of hip hop! Each mo
 nth we will be featuring different guest DJs who will be selecting a d
 ifferent city or region and exploring the artists and music that have 
 made that city's hip hop unique: from The A to Da Bay, Houstatlantaveg
 as, NYC, The Chi, East Coast, West Coast, you get the picture.\n\n\nLa
 st month we honored the birthplace of hip hop, New York and it WENT OF
 F! This month we bring it home with a night of ALL Bay Area hip hop br
 ought to you by two of The Bay's finest DJs.\n\n\nFirst, the internati
 onally renowned DJ Platurn -- voted \"Oakland's Best DJ\" by The East 
 Bay Express and winner of Scion's mix competition with fellow Oakland 
 Fader DJ Spair. Dj Platurn has been holding it down in The Bay for yea
 rs with residencies at Luka's Tap Room's \"Flashback Fridays\" and \"T
 he 45 Sessions\" at The Layover. Platurn has shared the stage with suc
 h names as Z-Trip, Krs-One, Mixmaster Mike, The Beat Junkies, DJ Premi
 er, Slick Rick, Maseo (De La Soul), ZionI, Jazzy Jay, Quest-Love(The R
 oots), M.F. Doom, A-Trak, Afrika Bambaata, Pete Rock, Ali Shaheed Muha
 mmad and now brings his unique style to Area Codes.\n\nNext, Bay stapl
 e DJ Doc Fu will be joining us. Doc Fu is EA Sports' DJ and member of 
 the Red Wine DJs, which won 7x7's \"Best DJ Collective\" award. Doc Fu
  recently held residency at Vessel's massive hip hop monthly \"Crush\"
  and also plays every Thursday night at Farmer Brown.\n\nResident DJ W
 hite Mike of The Projects will also be holding it down with his favori
 tes from The Bay.\n\n\nEntry is free before 10:30.\n$10 after.\n\nEtiq
 uette Lounge\n1108 Market Street (@ 7th)\n\nGroups/Birthdays please co
 ntact 415-240-3904\n\n\nNext month (April), we head from the Bay to th
 e A and go in on Atlanta!\n\n\nLet's go Bay Areaaaaaa!\n\nFor more inf
 ormation visit https://trueskool.com/events/area-codes-the-bays-region
 al
DTSTART;TZID=America/Los_Angeles:20100327T220000
DTEND;TZID=America/Los_Angeles:20100328T020000
CATEGORIES:hip, hop
LOCATION:Etiquette Lounge, San Francisco, CA
WEBSITE:http://www.etiquettelounge.com
URL:http://www.etiquettelounge.com
CONTACT:415-240-3904
ORGANIZER;CN="White Mike":https://trueskool.com/profile/WhiteMike
ATTACH;FMTTYPE="image/jpeg":http://storage.ning.com/topology/rest/1.0/
 file/get/2247874399?profile=original
ATTENDEE;ROLE=REQ-PARTICIPANT;PARTSTAT=ACCEPTED;RSVP=TRUE;CN="White Mi
 ke":https://trueskool.com/profile/WhiteMike
END:VEVENT
END:VCALENDAR
