BEGIN:VCALENDAR
PRODID:NingEventWidget-v1
VERSION:2.0
METHOD:PUBLISH
BEGIN:VTIMEZONE
TZID:America/Los_Angeles
X-LIC-LOCATION:America/Los_Angeles
BEGIN:DAYLIGHT
TZOFFSETFROM:-0800
TZOFFSETTO:-0700
TZNAME:PDT
DTSTART:19700308T020000
RRULE:FREQ=YEARLY;BYMONTH=3;BYDAY=2SU
END:DAYLIGHT
BEGIN:STANDARD
TZOFFSETFROM:-0700
TZOFFSETTO:-0800
TZNAME:PST
DTSTART:19701101T020000
RRULE:FREQ=YEARLY;BYMONTH=11;BYDAY=1SU
END:STANDARD
END:VTIMEZONE
BEGIN:VEVENT
UID:1464587:Event:81154
DTSTAMP:20260421T051459Z
SUMMARY:Apr15: \"SKAnk your Taxes OFF\" @The Ashkenaz- / Reggae Ska sh
 ow! !
DESCRIPTION:Apr15: \"SKAnk your Taxes OFF\" @Ashkenaz Ska / reggae iNs
 AniTy!MONKEY, La Muñeca y Los Muertos,The Impalers, The Agent Deadlie
 s, Punk Funk Mob@The Ashkenaz Music & Dance Community Center1317 San P
 ablo Ave, Berkeley, CA 94702All Ages - Doors 8pm / Show 8:30pm - $10\n
 THREE (3) HOT Female-fronted bands Guys! Beer & Wine for 21+ What more
  do ya want?!?!http://www.myspace.com/monkeyskahttp://www.lamunecarock
 s.com/http://www.myspace.com/theimpalerssfhttp://www.myspace.com/agent
 deadlieshttp://www.punkfunkmob.com/http://www.ashkenaz.com/\n\nFor mor
 e information visit https://trueskool.com/events/apr15-skank-your-taxe
 s-off-the
DTSTART;TZID=America/Los_Angeles:20110415T200000
DTEND;TZID=America/Los_Angeles:20110416T020000
CATEGORIES:berkeley, ca
LOCATION:The Ashkenaz, Berkeley, CA
WEBSITE:http://www.ashkenaz.com/
URL:http://www.ashkenaz.com/
CONTACT:415.370.7646 / 510-525-5054
ORGANIZER;CN="Peps X":https://trueskool.com/profile/Peps
ATTACH;FMTTYPE="image/jpeg":http://storage.ning.com/topology/rest/1.0/
 file/get/2247894380?profile=original
ATTENDEE;ROLE=REQ-PARTICIPANT;PARTSTAT=ACCEPTED;RSVP=TRUE;CN="Peps X":
 https://trueskool.com/profile/Peps
END:VEVENT
END:VCALENDAR
