BEGIN:VCALENDAR
PRODID:NingEventWidget-v1
VERSION:2.0
METHOD:PUBLISH
BEGIN:VTIMEZONE
TZID:America/Los_Angeles
X-LIC-LOCATION:America/Los_Angeles
BEGIN:DAYLIGHT
TZOFFSETFROM:-0800
TZOFFSETTO:-0700
TZNAME:PDT
DTSTART:19700308T020000
RRULE:FREQ=YEARLY;BYMONTH=3;BYDAY=2SU
END:DAYLIGHT
BEGIN:STANDARD
TZOFFSETFROM:-0700
TZOFFSETTO:-0800
TZNAME:PST
DTSTART:19701101T020000
RRULE:FREQ=YEARLY;BYMONTH=11;BYDAY=1SU
END:STANDARD
END:VTIMEZONE
BEGIN:VEVENT
UID:1464587:Event:40652
DTSTAMP:20260422T123534Z
SUMMARY:APAture Music Night
DESCRIPTION:Come see what's bubbling at this showcase of up'n'coming A
 sian American musicians. See MTV Chi top ten artist Johnny Hi-Fi and U
 RB Next 100's Hopie $pitshard and in action! Come prepared for heavy h
 eat from Lumaya, Mandeep Sethi and Nomadik Messengers as well.\n\nhttp
 ://www.myspace.com/hopiespitshard\nhttp://www.myspace.com/mandeepsethi
 \nhttp://www.myspace.com/nomadikmessengers\nhttp://www.johnnyhifi.com\
 nhttp://www.myspace.com/lumaya\n\n\n$10-15 sliding scale\n\nFor more i
 nformation visit https://trueskool.com/events/apature-music-night
DTSTART;TZID=America/Los_Angeles:20090918T183000
DTEND;TZID=America/Los_Angeles:20090918T220000
CATEGORIES:hip, hop, "/", indie
LOCATION:Poleng Lounge
WEBSITE:http://www.polenglounge.com/
URL:http://www.polenglounge.com/
CONTACT:
ORGANIZER;CN=Velcro:https://trueskool.com/profile/Velcro
ATTACH;FMTTYPE="image/jpeg":http://storage.ning.com/topology/rest/1.0/
 file/get/2247865410?profile=original
ATTENDEE;ROLE=REQ-PARTICIPANT;PARTSTAT=ACCEPTED;RSVP=TRUE;CN=Velcro:ht
 tps://trueskool.com/profile/Velcro
END:VEVENT
END:VCALENDAR
