BEGIN:VCALENDAR
PRODID:NingEventWidget-v1
VERSION:2.0
METHOD:PUBLISH
BEGIN:VTIMEZONE
TZID:America/Los_Angeles
X-LIC-LOCATION:America/Los_Angeles
BEGIN:DAYLIGHT
TZOFFSETFROM:-0800
TZOFFSETTO:-0700
TZNAME:PDT
DTSTART:19700308T020000
RRULE:FREQ=YEARLY;BYMONTH=3;BYDAY=2SU
END:DAYLIGHT
BEGIN:STANDARD
TZOFFSETFROM:-0700
TZOFFSETTO:-0800
TZNAME:PST
DTSTART:19701101T020000
RRULE:FREQ=YEARLY;BYMONTH=11;BYDAY=1SU
END:STANDARD
END:VTIMEZONE
BEGIN:VEVENT
UID:1464587:Event:276058
DTSTAMP:20260420T224937Z
SUMMARY:Antibalas (NYC)
DESCRIPTION:\nAntibalas\n\n\nS.O.B.'sNew York, NY\n\nMon, 12/30/1309:
 00 PM\nFind Tickets\n\n\n\n\nFor more information visit https://truesk
 ool.com/events/antibalas-nyc
DTSTART;TZID=America/Los_Angeles:20131230T210000
DTEND;TZID=America/Los_Angeles:20131230T230000
CATEGORIES:nyc
LOCATION:S.O.B.'s, New York
WEBSITE:http://www.ticketmaster.com/partner_redirect?v=CuXU1iTHZKcN9hN
 -5MS-33KTHAmiky4o_7nmOLjCc-cR73WtT4R-0wFPF6S-8OjaTg3gFijVQNSyl5QQtyp70
 9QTjP7c4H9lrpa-FNuhjvGumafT0a-N2HW8WZSFYehy2GaHdel74IA68WBpNSh512_hT5Z
 iIryNTH6Hg65T1-pYCyzz3mTnrNCYHSvmsb5XrGqdoTgdUhr9Jbx6dA&eventid=29004B
 6F3CEC8A1A&artistid=821125&artistname=Antibalas&crosssite=TM_US:821125
 :104
URL:http://www.ticketmaster.com/partner_redirect?v=CuXU1iTHZKcN9hN-5MS
 -33KTHAmiky4o_7nmOLjCc-cR73WtT4R-0wFPF6S-8OjaTg3gFijVQNSyl5QQtyp709QTj
 P7c4H9lrpa-FNuhjvGumafT0a-N2HW8WZSFYehy2GaHdel74IA68WBpNSh512_hT5ZiIry
 NTH6Hg65T1-pYCyzz3mTnrNCYHSvmsb5XrGqdoTgdUhr9Jbx6dA&eventid=29004B6F3C
 EC8A1A&artistid=821125&artistname=Antibalas&crosssite=TM_US:821125:104
CONTACT:
ORGANIZER;CN="Editor's Pick":https://trueskool.com/profile/RentheVinyl
 Archaeologist
ATTACH;FMTTYPE="image/jpeg":http://storage.ning.com/topology/rest/1.0/
 file/get/2247953166?profile=original
ATTENDEE;ROLE=REQ-PARTICIPANT;PARTSTAT=ACCEPTED;RSVP=TRUE;CN="Editor's
  Pick":https://trueskool.com/profile/RentheVinylArchaeologist
END:VEVENT
END:VCALENDAR
