BEGIN:VCALENDAR
PRODID:NingEventWidget-v1
VERSION:2.0
METHOD:PUBLISH
BEGIN:VTIMEZONE
TZID:America/Los_Angeles
X-LIC-LOCATION:America/Los_Angeles
BEGIN:DAYLIGHT
TZOFFSETFROM:-0800
TZOFFSETTO:-0700
TZNAME:PDT
DTSTART:19700308T020000
RRULE:FREQ=YEARLY;BYMONTH=3;BYDAY=2SU
END:DAYLIGHT
BEGIN:STANDARD
TZOFFSETFROM:-0700
TZOFFSETTO:-0800
TZNAME:PST
DTSTART:19701101T020000
RRULE:FREQ=YEARLY;BYMONTH=11;BYDAY=1SU
END:STANDARD
END:VTIMEZONE
BEGIN:VEVENT
UID:1464587:Event:275974
DTSTAMP:20260420T212106Z
SUMMARY:Antibalas New Years Eve 2014 (NYC)
DESCRIPTION:\nAntibalas, New Years Eve 2014\n\n\nS.O.B.'s \nNew York,
  NY\n\nTue, 12/31/1312:30 AM\nFind Tickets\n\n\n\n\nFor more informat
 ion visit https://trueskool.com/events/antibalas-new-years-eve-2014-ny
 c
DTSTART;TZID=America/Los_Angeles:20131231T003000
DTEND;TZID=America/Los_Angeles:20140101T040000
CATEGORIES:nyc
LOCATION:S.O.B.'s New York
WEBSITE:http://http://www.ticketmaster.com/partner_redirect?v=02fTsBKb
 4rjlBzGf4gNz4HP5-08s6k9fOXw-c2WnjQvuyXlsUjywVTSV7Mq7sF8GivyKJYMGCBXPD9
 8fs_rAE8gvQ7LRhMP78x5R-1OixX8Ijxm32PMyAThtk99vghdgpNrvg2PH3HoihkCVAaZN
 ahfi5310brLPM-MKO30nnistuRi5JaRTaBSQJY92eK_ni59XMetna-89eo6ifg&eventid
 =29004B6F46838A34&artistid=821125&artistname=Antibalas,%20New%20Years%
 20Eve%202014&crosssite=TM_US:821125:104
URL:http://http://www.ticketmaster.com/partner_redirect?v=02fTsBKb4rjl
 BzGf4gNz4HP5-08s6k9fOXw-c2WnjQvuyXlsUjywVTSV7Mq7sF8GivyKJYMGCBXPD98fs_
 rAE8gvQ7LRhMP78x5R-1OixX8Ijxm32PMyAThtk99vghdgpNrvg2PH3HoihkCVAaZNahfi
 5310brLPM-MKO30nnistuRi5JaRTaBSQJY92eK_ni59XMetna-89eo6ifg&eventid=290
 04B6F46838A34&artistid=821125&artistname=Antibalas,%20New%20Years%20Ev
 e%202014&crosssite=TM_US:821125:104
CONTACT:
ORGANIZER;CN="Editor's Pick":https://trueskool.com/profile/RentheVinyl
 Archaeologist
ATTACH;FMTTYPE="image/jpeg":http://storage.ning.com/topology/rest/1.0/
 file/get/2247953166?profile=original
ATTENDEE;ROLE=REQ-PARTICIPANT;PARTSTAT=ACCEPTED;RSVP=TRUE;CN="Editor's
  Pick":https://trueskool.com/profile/RentheVinylArchaeologist
END:VEVENT
END:VCALENDAR
