BEGIN:VCALENDAR
PRODID:NingEventWidget-v1
VERSION:2.0
METHOD:PUBLISH
BEGIN:VTIMEZONE
TZID:America/Los_Angeles
X-LIC-LOCATION:America/Los_Angeles
BEGIN:DAYLIGHT
TZOFFSETFROM:-0800
TZOFFSETTO:-0700
TZNAME:PDT
DTSTART:19700308T020000
RRULE:FREQ=YEARLY;BYMONTH=3;BYDAY=2SU
END:DAYLIGHT
BEGIN:STANDARD
TZOFFSETFROM:-0700
TZOFFSETTO:-0800
TZNAME:PST
DTSTART:19701101T020000
RRULE:FREQ=YEARLY;BYMONTH=11;BYDAY=1SU
END:STANDARD
END:VTIMEZONE
BEGIN:VEVENT
UID:1464587:Event:140972
DTSTAMP:20260421T014142Z
SUMMARY:Anthony B
DESCRIPTION: \nAnthony B (born Keith Blair) is the living personificat
 ion of Afrikan consciousness in Reggae. His single \"Nah vote again\" 
 was a major factor in making the Jamaican elections of Thursday, Decem
 ber 18 1997, the most peaceful one since the insidious cancer of gun v
 iolence was introduced in West and Central Kingston, prior to the elec
 tions of 1967. Like his hero, Peter Tosh, the most revolutionary of th
 e Wailing Wailers, he is an uncompromising Pan Afrikanist, in the trad
 ition of Marcus Mosiah Garvey, Jamaica's first national hero and the f
 ounder and leader of the largest Afrikan organization ever, the Univer
 sal Negro Improvement Association and Afrikan Communities League, U.N.
 I.A. and A.C.L.\n \n\nVenue:\nThe Independent \n\nLocation:\nSan Fran
 cisco, CA\n\nShow Date:\nThursday, January 3\n\nShow Time:\n9:00PM\n\n
 On Sale Date:\nFriday, November 9\n\nTicket Price:\n$25 *plus applicab
 le service feesTickets available at The Independent (628 Divisadero, S
 F) for no service charge.\n\n\n\n\n \n\n\nFor more information visit 
 https://trueskool.com/events/anthony-b-3
DTSTART;TZID=America/Los_Angeles:20130103T210000
DTEND;TZID=America/Los_Angeles:20130103T230000
CATEGORIES:"bay area", "san francisco", oakland
LOCATION:The Independent, San Francisco
WEBSITE:http://www.ticketfly.com/purchase/event/183497?utm_medium=bks
URL:http://www.ticketfly.com/purchase/event/183497?utm_medium=bks
CONTACT:
ORGANIZER;CN="Editor's Pick":https://trueskool.com/profile/RentheVinyl
 Archaeologist
ATTACH;FMTTYPE="image/jpeg":http://storage.ning.com/topology/rest/1.0/
 file/get/2247930125?profile=original
ATTENDEE;ROLE=REQ-PARTICIPANT;PARTSTAT=ACCEPTED;RSVP=TRUE;CN="Yamil Co
 mrie":https://trueskool.com/profile/JagaBoroughs
ATTENDEE;ROLE=REQ-PARTICIPANT;PARTSTAT=ACCEPTED;RSVP=TRUE;CN=Flebite:h
 ttps://trueskool.com/profile/Flebite
ATTENDEE;ROLE=REQ-PARTICIPANT;PARTSTAT=ACCEPTED;RSVP=TRUE;CN="Azad One
  Wise":https://trueskool.com/profile/AzadOneWise
ATTENDEE;ROLE=REQ-PARTICIPANT;PARTSTAT=ACCEPTED;RSVP=TRUE;CN=Kat:https
 ://trueskool.com/profile/Kat
ATTENDEE;ROLE=REQ-PARTICIPANT;PARTSTAT=ACCEPTED;RSVP=TRUE;CN="Hillary 
 Harris":https://trueskool.com/profile/HillaryHarris
ATTENDEE;ROLE=REQ-PARTICIPANT;PARTSTAT=ACCEPTED;RSVP=TRUE;CN="Editor's
  Pick":https://trueskool.com/profile/RentheVinylArchaeologist
END:VEVENT
END:VCALENDAR
