BEGIN:VCALENDAR
PRODID:NingEventWidget-v1
VERSION:2.0
METHOD:PUBLISH
BEGIN:VTIMEZONE
TZID:America/Los_Angeles
X-LIC-LOCATION:America/Los_Angeles
BEGIN:DAYLIGHT
TZOFFSETFROM:-0800
TZOFFSETTO:-0700
TZNAME:PDT
DTSTART:19700308T020000
RRULE:FREQ=YEARLY;BYMONTH=3;BYDAY=2SU
END:DAYLIGHT
BEGIN:STANDARD
TZOFFSETFROM:-0700
TZOFFSETTO:-0800
TZNAME:PST
DTSTART:19701101T020000
RRULE:FREQ=YEARLY;BYMONTH=11;BYDAY=1SU
END:STANDARD
END:VTIMEZONE
BEGIN:VEVENT
UID:1464587:Event:228431
DTSTAMP:20260421T143826Z
SUMMARY:Angie Stone (NYC)
DESCRIPTION:Angie Stone\nB.B. King Blues Club and Grill, New York, N
 Y\nThu, Aug 8, 2013 08:00 PM\n\nFor more information visit https://t
 rueskool.com/events/angie-stone-nyc
DTSTART;TZID=America/Los_Angeles:20130808T200000
DTEND;TZID=America/Los_Angeles:20130808T230000
CATEGORIES:new, york, ny
LOCATION:B.B. King Blues Club and Grill, NY
WEBSITE:http://www.ticketmaster.com/angie-stone-new-york-new-york-08-0
 8-2013/event/00004A9DE1AF530E?artistid=772163&majorcatid=10001&minorca
 tid=202
URL:http://www.ticketmaster.com/angie-stone-new-york-new-york-08-08-20
 13/event/00004A9DE1AF530E?artistid=772163&majorcatid=10001&minorcatid=
 202
CONTACT:
ORGANIZER;CN="Editor's Pick":https://trueskool.com/profile/RentheVinyl
 Archaeologist
ATTACH;FMTTYPE="image/jpeg":http://storage.ning.com/topology/rest/1.0/
 file/get/2247944008?profile=original
ATTENDEE;ROLE=REQ-PARTICIPANT;PARTSTAT=ACCEPTED;RSVP=TRUE;CN="Editor's
  Pick":https://trueskool.com/profile/RentheVinylArchaeologist
END:VEVENT
END:VCALENDAR
