BEGIN:VCALENDAR
PRODID:NingEventWidget-v1
VERSION:2.0
METHOD:PUBLISH
BEGIN:VTIMEZONE
TZID:America/Los_Angeles
X-LIC-LOCATION:America/Los_Angeles
BEGIN:DAYLIGHT
TZOFFSETFROM:-0800
TZOFFSETTO:-0700
TZNAME:PDT
DTSTART:19700308T020000
RRULE:FREQ=YEARLY;BYMONTH=3;BYDAY=2SU
END:DAYLIGHT
BEGIN:STANDARD
TZOFFSETFROM:-0700
TZOFFSETTO:-0800
TZNAME:PST
DTSTART:19701101T020000
RRULE:FREQ=YEARLY;BYMONTH=11;BYDAY=1SU
END:STANDARD
END:VTIMEZONE
BEGIN:VEVENT
UID:1464587:Event:672698
DTSTAMP:20260421T102539Z
SUMMARY:Andre Nickatina
DESCRIPTION:\r\n\r\nFRIDAY, FEB 2\r\nAndre Nickatina with Six Fif, Joe
  Suave\r\n\r\n@ Slim's, San Francisco\r\ndoors 8pm/show 9pm  Tickets 
 are $30 advance/door:\r\n>> BUY TICKETS\r\n\r\n\n\nFor more informatio
 n visit https://trueskool.com/events/andre-nickatina-3
DTSTART;TZID=America/Los_Angeles:20180202T200000
DTEND;TZID=America/Los_Angeles:20180202T230000
CATEGORIES:"bay area", "san francisco"
LOCATION:Slim's, San Francisco
WEBSITE:http://bit.ly/2rwx49X
URL:http://bit.ly/2rwx49X
CONTACT:
ORGANIZER:Slim's
ATTACH;FMTTYPE="image/jpeg":http://storage.ning.com/topology/rest/1.0/
 file/get/2248004694?profile=original
ATTENDEE;ROLE=REQ-PARTICIPANT;PARTSTAT=ACCEPTED;RSVP=TRUE;CN="Editor's
  Pick":https://trueskool.com/profile/RentheVinylArchaeologist
END:VEVENT
END:VCALENDAR
