BEGIN:VCALENDAR
PRODID:NingEventWidget-v1
VERSION:2.0
METHOD:PUBLISH
BEGIN:VTIMEZONE
TZID:America/Los_Angeles
X-LIC-LOCATION:America/Los_Angeles
BEGIN:DAYLIGHT
TZOFFSETFROM:-0800
TZOFFSETTO:-0700
TZNAME:PDT
DTSTART:19700308T020000
RRULE:FREQ=YEARLY;BYMONTH=3;BYDAY=2SU
END:DAYLIGHT
BEGIN:STANDARD
TZOFFSETFROM:-0700
TZOFFSETTO:-0800
TZNAME:PST
DTSTART:19701101T020000
RRULE:FREQ=YEARLY;BYMONTH=11;BYDAY=1SU
END:STANDARD
END:VTIMEZONE
BEGIN:VEVENT
UID:1464587:Event:836206
DTSTAMP:20260422T223645Z
SUMMARY:Ana Tijoux: The Vida Tour
DESCRIPTION:Ana Tijoux: The Vida Tour\r\nWed Apr 30 2025 8:00 PM (Door
 s 7:00 PM)\r\nThe New Parish 1743 San Pablo Avenue Oakland, CA 94612\n
 \nFor more information visit https://trueskool.com/events/ana-tijoux-t
 he-vida-tour
DTSTART;TZID=America/Los_Angeles:20250430T200000
DTEND;TZID=America/Los_Angeles:20250430T233000
CATEGORIES:"bay area", oakland, "san francisco", "san jose", berkeley
LOCATION:The New Parish, Oakland
WEBSITE:https://www.ticketweb.com/event/ana-tijoux-the-vida-tour-the-n
 ew-parish-tickets/14214153
URL:https://www.ticketweb.com/event/ana-tijoux-the-vida-tour-the-new-p
 arish-tickets/14214153
CONTACT:
ORGANIZER;CN="Editor's Pick":https://trueskool.com/profile/RentheVinyl
 Archaeologist
ATTACH;FMTTYPE="image/jpeg":https://storage.ning.com/topology/rest/1.0
 /file/get/13533844664?profile=original
ATTENDEE;ROLE=REQ-PARTICIPANT;PARTSTAT=ACCEPTED;RSVP=TRUE;CN="Editor's
  Pick":https://trueskool.com/profile/RentheVinylArchaeologist
END:VEVENT
END:VCALENDAR
