BEGIN:VCALENDAR
PRODID:NingEventWidget-v1
VERSION:2.0
METHOD:PUBLISH
BEGIN:VTIMEZONE
TZID:America/Los_Angeles
X-LIC-LOCATION:America/Los_Angeles
BEGIN:DAYLIGHT
TZOFFSETFROM:-0800
TZOFFSETTO:-0700
TZNAME:PDT
DTSTART:19700308T020000
RRULE:FREQ=YEARLY;BYMONTH=3;BYDAY=2SU
END:DAYLIGHT
BEGIN:STANDARD
TZOFFSETFROM:-0700
TZOFFSETTO:-0800
TZNAME:PST
DTSTART:19701101T020000
RRULE:FREQ=YEARLY;BYMONTH=11;BYDAY=1SU
END:STANDARD
END:VTIMEZONE
BEGIN:VEVENT
UID:1464587:Event:834434
DTSTAMP:20260421T064801Z
SUMMARY:An Evening With Rebirth Brass Band
DESCRIPTION:An Evening With Rebirth Brass Band  MARDI GRAS CELEBRATION
 !\r\nTuesday, Mar 04, 2025 Doors: 7:30PM | Show: 8:30PM\r\nThe Chapel 
 777 Valencia St, San Francisco, CA 94110\n\nFor more information visit
  https://trueskool.com/events/an-evening-with-rebirth-brass-band
DTSTART;TZID=America/Los_Angeles:20250304T203000
DTEND;TZID=America/Los_Angeles:20250304T230000
CATEGORIES:"bay area", oakland, "san francisco", "san jose", berkeley
LOCATION:The Chapel, SF
WEBSITE:https://wl.seetickets.us/event/an-evening-with-rebirth-brass-b
 and/633571?afflky=TheChapel
URL:https://wl.seetickets.us/event/an-evening-with-rebirth-brass-band/
 633571?afflky=TheChapel
CONTACT:
ORGANIZER;CN="Editor's Pick":https://trueskool.com/profile/RentheVinyl
 Archaeologist
ATTACH;FMTTYPE="image/jpeg":https://storage.ning.com/topology/rest/1.0
 /file/get/13432272468?profile=original
ATTENDEE;ROLE=REQ-PARTICIPANT;PARTSTAT=ACCEPTED;RSVP=TRUE;CN="Editor's
  Pick":https://trueskool.com/profile/RentheVinylArchaeologist
END:VEVENT
END:VCALENDAR
